BEGIN:VCALENDAR
VERSION:2.0
PRODID:-//Milford Conservation Volunteers - ECPv6.15.20//NONSGML v1.0//EN
CALSCALE:GREGORIAN
METHOD:PUBLISH
X-WR-CALNAME:Milford Conservation Volunteers
X-ORIGINAL-URL:https://milfordconservation.org
X-WR-CALDESC:Events for Milford Conservation Volunteers
REFRESH-INTERVAL;VALUE=DURATION:PT1H
X-Robots-Tag:noindex
X-PUBLISHED-TTL:PT1H
BEGIN:VTIMEZONE
TZID:UTC
BEGIN:STANDARD
TZOFFSETFROM:+0000
TZOFFSETTO:+0000
TZNAME:UTC
DTSTART:20220101T000000
END:STANDARD
END:VTIMEZONE
BEGIN:VEVENT
DTSTART;TZID=UTC:20230520T080000
DTEND;TZID=UTC:20230520T130000
DTSTAMP:20260426T030743
CREATED:20220528T182309Z
LAST-MODIFIED:20220528T183418Z
UID:4987-1684569600-1684587600@milfordconservation.org
SUMMARY:Milford Plant Fair
DESCRIPTION:… save the date
URL:https://milfordconservation.org/event/milford-plant-fair-2/
LOCATION:Milford on Sea Village Green
END:VEVENT
END:VCALENDAR