BEGIN:VCALENDAR
VERSION:2.0
PRODID:-//Milford Conservation Volunteers - ECPv6.15.20//NONSGML v1.0//EN
CALSCALE:GREGORIAN
METHOD:PUBLISH
X-ORIGINAL-URL:https://milfordconservation.org
X-WR-CALDESC:Events for Milford Conservation Volunteers
REFRESH-INTERVAL;VALUE=DURATION:PT1H
X-Robots-Tag:noindex
X-PUBLISHED-TTL:PT1H
BEGIN:VTIMEZONE
TZID:UTC
BEGIN:STANDARD
TZOFFSETFROM:+0000
TZOFFSETTO:+0000
TZNAME:UTC
DTSTART:20220101T000000
END:STANDARD
END:VTIMEZONE
BEGIN:VEVENT
DTSTART;TZID=UTC:20230629T133000
DTEND;TZID=UTC:20230629T153000
DTSTAMP:20260426T013059
CREATED:20230125T153111Z
LAST-MODIFIED:20230621T115807Z
UID:5685-1688045400-1688052600@milfordconservation.org
SUMMARY:Butterfly Walk
DESCRIPTION:Meeting Point:  Gate 13 Pless Road\, opposite Westminster Road \n\n\n\nLeader:  Helen Duckett \n\n\n\nTani is responsible for the butterfly transect at Studland Common that feeds into the Butterfly Conservation records.  She will be recording butterflies along the way so if the conditions are not right\, it will be postponed until the following day at 10am \n\n\n\nNew members are especially welcome. \n\n\n\nEither fill in the form so that we know to expect you\, or just turn up on the day. \n\n\n\n\n\n\nPlease enable JavaScript in your browser to complete this form.Event *Name *FirstLastEmail *Contact numberComment or Message *Send
URL:https://milfordconservation.org/event/nature-walk-5/
LOCATION:Studland Common
CATEGORIES:butterflies,Walks
END:VEVENT
END:VCALENDAR