BEGIN:VCALENDAR
VERSION:2.0
PRODID:-//Milford Conservation Volunteers - ECPv6.15.20//NONSGML v1.0//EN
CALSCALE:GREGORIAN
METHOD:PUBLISH
X-WR-CALNAME:Milford Conservation Volunteers
X-ORIGINAL-URL:https://milfordconservation.org
X-WR-CALDESC:Events for Milford Conservation Volunteers
REFRESH-INTERVAL;VALUE=DURATION:PT1H
X-Robots-Tag:noindex
X-PUBLISHED-TTL:PT1H
BEGIN:VTIMEZONE
TZID:UTC
BEGIN:STANDARD
TZOFFSETFROM:+0000
TZOFFSETTO:+0000
TZNAME:UTC
DTSTART:20220101T000000
END:STANDARD
END:VTIMEZONE
BEGIN:VEVENT
DTSTART;TZID=UTC:20230826T113000
DTEND;TZID=UTC:20230826T153000
DTSTAMP:20260425T220515
CREATED:20230613T094434Z
LAST-MODIFIED:20230613T101745Z
UID:6328-1693049400-1693063800@milfordconservation.org
SUMMARY:Bee Fayre 2023
DESCRIPTION:Conservation Connection New Forest are hosting the event  again\, on New Milton Recreation Ground  \n\n\n\nBee Fayre – New Milton  \n\n\n\n\n\nConservation Connection New Forest South
URL:https://milfordconservation.org/event/bee-fayre-2023/
LOCATION:New Milton Recreation Ground\, Whitefield Rd\,\, New Milton\, BH25 6DF
CATEGORIES:Bees,General
END:VEVENT
END:VCALENDAR