BEGIN:VCALENDAR
VERSION:2.0
PRODID:-//Milford Conservation Volunteers - ECPv6.15.20//NONSGML v1.0//EN
CALSCALE:GREGORIAN
METHOD:PUBLISH
X-WR-CALNAME:Milford Conservation Volunteers
X-ORIGINAL-URL:https://milfordconservation.org
X-WR-CALDESC:Events for Milford Conservation Volunteers
REFRESH-INTERVAL;VALUE=DURATION:PT1H
X-Robots-Tag:noindex
X-PUBLISHED-TTL:PT1H
BEGIN:VTIMEZONE
TZID:UTC
BEGIN:STANDARD
TZOFFSETFROM:+0000
TZOFFSETTO:+0000
TZNAME:UTC
DTSTART:20220101T000000
END:STANDARD
END:VTIMEZONE
BEGIN:VEVENT
DTSTART;TZID=UTC:20231020T190000
DTEND;TZID=UTC:20231020T210000
DTSTAMP:20260425T184334
CREATED:20231018T123021Z
LAST-MODIFIED:20231020T103013Z
UID:6756-1697828400-1697835600@milfordconservation.org
SUMMARY:RSPB: Beach Nesting Bird Project
DESCRIPTION:At The Bridge – Milford Community Centre \n\n\n\nMCV and Wings are jointly hosting a presentation from RSPB about sea birds and waders in the Hurst area. \n\n\n        \n            \n                \n                     Powered By EmbedPress
URL:https://milfordconservation.org/event/rspb-beach-nesting-bird-project/
CATEGORIES:Birds
END:VEVENT
END:VCALENDAR