BEGIN:VCALENDAR
VERSION:2.0
PRODID:-//Milford Conservation Volunteers - ECPv6.15.20//NONSGML v1.0//EN
CALSCALE:GREGORIAN
METHOD:PUBLISH
X-ORIGINAL-URL:https://milfordconservation.org
X-WR-CALDESC:Events for Milford Conservation Volunteers
REFRESH-INTERVAL;VALUE=DURATION:PT1H
X-Robots-Tag:noindex
X-PUBLISHED-TTL:PT1H
BEGIN:VTIMEZONE
TZID:UTC
BEGIN:STANDARD
TZOFFSETFROM:+0000
TZOFFSETTO:+0000
TZNAME:UTC
DTSTART:20230101T000000
END:STANDARD
END:VTIMEZONE
BEGIN:VEVENT
DTSTART;TZID=UTC:20240203T090000
DTEND;TZID=UTC:20240203T103000
DTSTAMP:20260425T120913
CREATED:20231029T142527Z
LAST-MODIFIED:20231029T151235Z
UID:6805-1706950800-1706956200@milfordconservation.org
SUMMARY:Creeks & Saltmarsh Boat Trip
DESCRIPTION:This is  a boat trip around Keyhaven Creeks and Saltmarsh\, led by bird expert\, Keith Metcalf.  \n\n\n\nSpace is limited so pre-booking is essential and payment needs to be received to confirm booking. Booking requests can be made using the form below\, after which you will be contacted by the organiser for payment. \n\n\n\nMeet at Keyhaven Hurst Castle Ferry Pontoon 5 minutes before departure. \n\n\n\nTicket Prices to cover costs only:\n\n\n\nMCV Members  £15 Non-MCV Members £20 \n\n\n\nMore Details \n\n\n\n \n\n\nPlease enable JavaScript in your browser to complete this form.Event *Date *Monday 4th December 2023 (trip 48)Thursday\, 4th January 2024 (trip 49)Saturday 4th February 2024 (trip 50)Monday 15th February 2024 (trip 51)Monday 4th March 2024 (trip 52)Number of Seats Seats are for: *MembersNon MembersMixed - please enter details in Message Box belowName *FirstLastEmail *Contact number *Comment or MessageSend  \n\n\n\n\n\nYouth Birding Trip\n\n\n\nCreeks and Saltmarsh
URL:https://milfordconservation.org/event/creeks-saltmarsh-boat-trip-2/
CATEGORIES:Birds,Boat Trips
END:VEVENT
BEGIN:VEVENT
DTSTART;TZID=UTC:20240203T100000
DTEND;TZID=UTC:20240203T120000
DTSTAMP:20260425T120913
CREATED:20231206T142944Z
LAST-MODIFIED:20231206T142946Z
UID:6960-1706954400-1706961600@milfordconservation.org
SUMMARY:Drop in Birding Session at Keyhaven
DESCRIPTION:Drop in Birding Session at Keyhaven \n\n\n\nThis is a drop in birding session open to everyone. It is held on 1st Saturday of every month\, from 10 am – 12 noon\, at Keyhaven Bird Observatory.  \n\n\n\n\n\n\n\n\n\n\nLocal bird experts are available to help identify birds and answer questions.\n\n\n\nScopes and binoculars are available to use. \n\n\n\nEveryone welcome\,  so why not come along and see what’s happening today?\n\n\n\n\n\n\nDetails of venue here \n\n\n\nYou may also like to Drop In at Sturt pond on 3rd Saturday of the month.
URL:https://milfordconservation.org/event/drop-in-birding-session-at-keyhaven-4/
CATEGORIES:Birds
END:VEVENT
END:VCALENDAR