BEGIN:VCALENDAR
VERSION:2.0
PRODID:-//Milford Conservation Volunteers - ECPv6.15.20//NONSGML v1.0//EN
CALSCALE:GREGORIAN
METHOD:PUBLISH
X-ORIGINAL-URL:https://milfordconservation.org
X-WR-CALDESC:Events for Milford Conservation Volunteers
REFRESH-INTERVAL;VALUE=DURATION:PT1H
X-Robots-Tag:noindex
X-PUBLISHED-TTL:PT1H
BEGIN:VTIMEZONE
TZID:UTC
BEGIN:STANDARD
TZOFFSETFROM:+0000
TZOFFSETTO:+0000
TZNAME:UTC
DTSTART:20230101T000000
END:STANDARD
END:VTIMEZONE
BEGIN:VEVENT
DTSTART;TZID=UTC:20241101T130000
DTEND;TZID=UTC:20241101T150000
DTSTAMP:20260424T205438
CREATED:20241016T170928Z
LAST-MODIFIED:20241016T171148Z
UID:7621-1730466000-1730473200@milfordconservation.org
SUMMARY:Great Coastal Bird Watch
DESCRIPTION:At Sturt Pond Bird Hide \n\n\n\n\n\n\n\nBird Aware Solent are organising a pop up event at the sturt pond bird hide. \n\n\n\nFor full details of this and other events see their website
URL:https://milfordconservation.org/event/great-coastal-bird-watch-2/
CATEGORIES:Birds
END:VEVENT
END:VCALENDAR