BEGIN:VCALENDAR
VERSION:2.0
PRODID:-//Milford Conservation Volunteers - ECPv6.15.20//NONSGML v1.0//EN
CALSCALE:GREGORIAN
METHOD:PUBLISH
X-ORIGINAL-URL:https://milfordconservation.org
X-WR-CALDESC:Events for Milford Conservation Volunteers
REFRESH-INTERVAL;VALUE=DURATION:PT1H
X-Robots-Tag:noindex
X-PUBLISHED-TTL:PT1H
BEGIN:VTIMEZONE
TZID:UTC
BEGIN:STANDARD
TZOFFSETFROM:+0000
TZOFFSETTO:+0000
TZNAME:UTC
DTSTART:20250101T000000
END:STANDARD
END:VTIMEZONE
BEGIN:VEVENT
DTSTART;TZID=UTC:20260221T100000
DTEND;TZID=UTC:20260221T120000
DTSTAMP:20260423T205000
CREATED:20260315T153500Z
LAST-MODIFIED:20260315T153502Z
UID:8219-1771668000-1771675200@milfordconservation.org
SUMMARY:Drop in Birding Session at Sturt Pond
DESCRIPTION:This is a drop in birding session open to everyone. It is held on 3rd Saturday of every month\, from 10 am – 12 noon\, at Sturt Pond Bird Hide.  \n\n\n\n\n\n\n\n\n\n\nLocal bird experts are available to help identify birds and answer questions. \n\n\n\nScopes and binoculars are available to use.\n\n\n\nEveryone welcome\,  so why not come along and see what’s happening today?\n\n\n\n\n\n\nDetails of venue here \n\n\n\nYou may also like to Drop In at Keyhaven Observatory on 1st Saturday of the month.
URL:https://milfordconservation.org/event/drop-in-birding-session-at-sturt-pond-29/
CATEGORIES:Birds,Drop In Birding Sessions
END:VEVENT
END:VCALENDAR