BEGIN:VCALENDAR
VERSION:2.0
PRODID:-//Milford Conservation Volunteers - ECPv6.15.20//NONSGML v1.0//EN
CALSCALE:GREGORIAN
METHOD:PUBLISH
X-WR-CALNAME:Milford Conservation Volunteers
X-ORIGINAL-URL:https://milfordconservation.org
X-WR-CALDESC:Events for Milford Conservation Volunteers
REFRESH-INTERVAL;VALUE=DURATION:PT1H
X-Robots-Tag:noindex
X-PUBLISHED-TTL:PT1H
BEGIN:VTIMEZONE
TZID:UTC
BEGIN:STANDARD
TZOFFSETFROM:+0000
TZOFFSETTO:+0000
TZNAME:UTC
DTSTART:20220101T000000
END:STANDARD
END:VTIMEZONE
BEGIN:VEVENT
DTSTART;TZID=UTC:20230823T093000
DTEND;TZID=UTC:20230823T123000
DTSTAMP:20260425T212134
CREATED:20230603T150500Z
LAST-MODIFIED:20230822T100214Z
UID:6220-1692783000-1692793800@milfordconservation.org
SUMMARY:Conservation Task -Cancelled
DESCRIPTION:CANCELLED\n\n\n\n\n\n\n\nDetails of this event are sent to everyone on the volunteer task list. If you would like to join the list please fill in our contact form.  \n\n\n\nTasks are planned with the parish council\, and vary from lighter clearance work e.g. footpaths\, bramble\, rhododendron and hazel coppice\, to heavier work like drainage\, revetment or footpaths. \n\n\n\nVolunteers should wear gloves and sturdy footwear\, safety glasses and  long trousers recommended. With summer coming along sunscreen and insect repellent if you need it and bring your own water/refreshments.
URL:https://milfordconservation.org/event/conservation-task-7/
CATEGORIES:Tasks
END:VEVENT
END:VCALENDAR