BEGIN:VCALENDAR
VERSION:2.0
PRODID:-//Milford Conservation Volunteers - ECPv6.15.20//NONSGML v1.0//EN
CALSCALE:GREGORIAN
METHOD:PUBLISH
X-ORIGINAL-URL:https://milfordconservation.org
X-WR-CALDESC:Events for Milford Conservation Volunteers
REFRESH-INTERVAL;VALUE=DURATION:PT1H
X-Robots-Tag:noindex
X-PUBLISHED-TTL:PT1H
BEGIN:VTIMEZONE
TZID:UTC
BEGIN:STANDARD
TZOFFSETFROM:+0000
TZOFFSETTO:+0000
TZNAME:UTC
DTSTART:20240101T000000
END:STANDARD
END:VTIMEZONE
BEGIN:VEVENT
DTSTART;TZID=UTC:20250626T100000
DTEND;TZID=UTC:20250626T130000
DTSTAMP:20260424T082853
CREATED:20241206T154406Z
LAST-MODIFIED:20250623T170501Z
UID:7697-1750932000-1750942800@milfordconservation.org
SUMMARY:Conservation Task
DESCRIPTION:Organiser: Adrian Palmer \n\n\n\nMeeting Point: Keyhaven Observatory \n\n\n\nTask:  Maintenance at Keyhaven Observatory \n\n\n\nWe are going to concentrate on MCV ‘assets’ and undertake maintenance at the Keyhaven Observatory. The primary task will be to paint all the exposed wooden railings and platform with a preservative\, following some light preparation work as required. Some localised trimming of hedges/brambles may be required to gain access. David Horne will acquire the preservative\, brushes and sandpaper and we will meet at the usual time of 10.00am at the Observatory. \n\n\n\nThe weather forecast for Thursday is currently OK\, slight chance of showers overnight and early morning\, but reasonably warm\, good weather for the task in hand. In addition to fluids\, sun protection etc.\, please bring your own gloves and overalls. We do have some gloves in the store\, but inevitably they may not be the sizes and/or quantity that we may need. \n\n\n\n\n\n\n\nEvery effort will be made to keep to this date\, but changes can occur due to weather\, logistics\, to suit other involved parties or to avoid conflicting events. Generally an email will be sent to volunteers a week in advance with location and details of the task. It is possible that additional sessions will be added \, including at weekends if there is time critical\, or backlog of tasks to complete. \n\n\n\nIf you would like to join the list please fill in our contact form. \n\n\n\nTasks are generally planned with the parish council\, and wherever possible have a conservation theme. Most tasks are conservation management or maintenance and vary from lighter clearance work e.g. footpaths\, bramble\, rhododendron and hazel coppice\, to heavier work like drainage\, revetment or footpaths. Occasionally we do get opportunities to enhance or even create habitat for flora and fauna.  \n\n\n\nVolunteers should wear gloves and sturdy footwear\, safety glasses and  long trousers recommended. Bring waterproofs\, sunscreen and insect repellent as appropriate and bring your own water/refreshments. \n\n\n	\n		\n			\n				\n					\n						\n	\n	\n\n						\n							Add to calendar						\n						\n	\n\n					\n					\n						\n															\n									\n										Google Calendar									\n								\n															\n									\n										iCalendar									\n								\n															\n									\n										Outlook 365									\n								\n															\n									\n										Outlook Live
URL:https://milfordconservation.org/event/conservation-task-23/
CATEGORIES:Tasks
END:VEVENT
END:VCALENDAR