BEGIN:VCALENDAR
VERSION:2.0
PRODID:-//Milford Conservation Volunteers - ECPv6.15.20//NONSGML v1.0//EN
CALSCALE:GREGORIAN
METHOD:PUBLISH
X-ORIGINAL-URL:https://milfordconservation.org
X-WR-CALDESC:Events for Milford Conservation Volunteers
REFRESH-INTERVAL;VALUE=DURATION:PT1H
X-Robots-Tag:noindex
X-PUBLISHED-TTL:PT1H
BEGIN:VTIMEZONE
TZID:UTC
BEGIN:STANDARD
TZOFFSETFROM:+0000
TZOFFSETTO:+0000
TZNAME:UTC
DTSTART:20240101T000000
END:STANDARD
END:VTIMEZONE
BEGIN:VEVENT
DTSTART;TZID=UTC:20250916T100000
DTEND;TZID=UTC:20250916T130000
DTSTAMP:20260424T052536
CREATED:20250718T113947Z
LAST-MODIFIED:20250914T153656Z
UID:7884-1758016800-1758027600@milfordconservation.org
SUMMARY:Conservation Task
DESCRIPTION:Organiser: Adrian Palmer \n\n\n\nMeeting Point: Barnes Lane Recreation Ground \n\n\n\nTask:  Shrub and Tree Clearance  \n\n\n\nBefore we head back to the Community Meadow\, Pleasure Grounds and Studland Common in the period through to next spring\, next Tuesday\, we will be returning to Barnes Lane Recreation Ground. The task will continue on shrub and tree clearance along the southern boundary of the recreation ground that was started with the Parish Council and local residents on a very hot day in June 2024. The task will involve cutting back and disposal of vegetation and volunteers can choose between lighter or heavier activities to suit themselves. \n\n\n\nWe will meet as normal at around 10.00 am at the recreation ground. The weather forecast for Tuesday is currently dry\, but after the rain of the last week or so\, the ground will be wet and possibly slippery underfoot\, so appropriate footwear should be worn\, along with protective gloves. Whilst it should not be as warm as last month’s session\, please do not forget your fluids.
URL:https://milfordconservation.org/event/conservation-task-28/
CATEGORIES:Tasks
END:VEVENT
END:VCALENDAR