BEGIN:VCALENDAR
VERSION:2.0
PRODID:-//Milford Conservation Volunteers - ECPv6.15.20//NONSGML v1.0//EN
CALSCALE:GREGORIAN
METHOD:PUBLISH
X-ORIGINAL-URL:https://milfordconservation.org
X-WR-CALDESC:Events for Milford Conservation Volunteers
REFRESH-INTERVAL;VALUE=DURATION:PT1H
X-Robots-Tag:noindex
X-PUBLISHED-TTL:PT1H
BEGIN:VTIMEZONE
TZID:UTC
BEGIN:STANDARD
TZOFFSETFROM:+0000
TZOFFSETTO:+0000
TZNAME:UTC
DTSTART:20240101T000000
END:STANDARD
END:VTIMEZONE
BEGIN:VEVENT
DTSTART;TZID=UTC:20251210T100000
DTEND;TZID=UTC:20251210T130000
DTSTAMP:20260423T224822
CREATED:20250718T113934Z
LAST-MODIFIED:20251206T172756Z
UID:7887-1765360800-1765371600@milfordconservation.org
SUMMARY:Conservation Task
DESCRIPTION:Organiser: Adrian Palmer \n\n\n\nMeeting Point: Milford Bridge (High Street/Park Lane) \n\n\n\nTask:  Tidying pathways in Pleasure Grounds   \n\n\n\nThe focus will be on some of the tasks noted during a walkover in October. We will be working our way through the Pleasure Grounds removing any sapling sycamore\, willow\, bay or rhododendron encountered near the path. We will also check and clean out any nest boxes and also note locations requiring drainage maintenance\, and new/additional timber shuttering in the spring/summer.  Please as always wear appropriate footwear\, it may be wet and slippery in places\, and protective gloves. If you have your own pair of secateurs you can bring along that would be useful. \n\n\n\n\n\n\n\nEvery effort will be made to keep to this date\, but changes can occur due to weather\, logistics\, to suit other involved parties or to avoid conflicting events. Generally an email will be sent to volunteers a week in advance with location and details of the task. It is possible that additional sessions will be added \, including at weekends if there is time critical\, or backlog of tasks to complete. \n\n\n\nIf you would like to join the list please fill in our contact form. \n\n\n\nTasks are generally planned with the parish council\, and wherever possible have a conservation theme. Most tasks are conservation management or maintenance and vary from lighter clearance work e.g. footpaths\, bramble\, rhododendron and hazel coppice\, to heavier work like drainage\, revetment or footpaths. Occasionally we do get opportunities to enhance or even create habitat for flora and fauna.  \n\n\n\nVolunteers should wear gloves and sturdy footwear\, safety glasses and  long trousers recommended. Bring waterproofs\, sunscreen and insect repellent as appropriate and bring your own water/refreshments. \n\n\n	\n		\n			\n				\n					\n						\n	\n	\n\n						\n							Add to calendar						\n						\n	\n\n					\n					\n						\n															\n									\n										Google Calendar									\n								\n															\n									\n										iCalendar									\n								\n															\n									\n										Outlook 365									\n								\n															\n									\n										Outlook Live
URL:https://milfordconservation.org/event/conservation-task-25/
CATEGORIES:Tasks
END:VEVENT
END:VCALENDAR