BEGIN:VCALENDAR
VERSION:2.0
PRODID:-//Milford Conservation Volunteers - ECPv6.15.20//NONSGML v1.0//EN
CALSCALE:GREGORIAN
METHOD:PUBLISH
X-WR-CALNAME:Milford Conservation Volunteers
X-ORIGINAL-URL:https://milfordconservation.org
X-WR-CALDESC:Events for Milford Conservation Volunteers
REFRESH-INTERVAL;VALUE=DURATION:PT1H
X-Robots-Tag:noindex
X-PUBLISHED-TTL:PT1H
BEGIN:VTIMEZONE
TZID:UTC
BEGIN:STANDARD
TZOFFSETFROM:+0000
TZOFFSETTO:+0000
TZNAME:UTC
DTSTART:20220101T000000
END:STANDARD
END:VTIMEZONE
BEGIN:VEVENT
DTSTART;TZID=UTC:20230925T100000
DTEND;TZID=UTC:20230925T120000
DTSTAMP:20260425T202605
CREATED:20230822T094839Z
LAST-MODIFIED:20230822T094841Z
UID:6583-1695636000-1695643200@milfordconservation.org
SUMMARY:Nature Walk
DESCRIPTION:Keyhaven Coastal Path\n\n\n\nMeeting Point:  Keyhaven Bird Observatory \n\n\n\nLeader: David Horne \n\n\n\nDavid is Chairman of MCV committee and has a great deal of knowledge on many aspects of the environment.  \n\n\n\nDon’t forget your binoculars if you have them\, as you never know what might turn up! \n\n\n\nOpen to everyone\, and new members are especially welcome. \n\n\n\nEither fill in the form so that we know to expect you\, or just turn up on the day. \n\n\n\n\n\n\nPlease enable JavaScript in your browser to complete this form.Event *Name *FirstLastEmail *Contact numberComment or Message *Send
URL:https://milfordconservation.org/event/nature-walk-8/
CATEGORIES:Birds,Walks
END:VEVENT
END:VCALENDAR