BEGIN:VCALENDAR
VERSION:2.0
PRODID:-//Milford Conservation Volunteers - ECPv6.15.20//NONSGML v1.0//EN
CALSCALE:GREGORIAN
METHOD:PUBLISH
X-WR-CALNAME:Milford Conservation Volunteers
X-ORIGINAL-URL:https://milfordconservation.org
X-WR-CALDESC:Events for Milford Conservation Volunteers
REFRESH-INTERVAL;VALUE=DURATION:PT1H
X-Robots-Tag:noindex
X-PUBLISHED-TTL:PT1H
BEGIN:VTIMEZONE
TZID:UTC
BEGIN:STANDARD
TZOFFSETFROM:+0000
TZOFFSETTO:+0000
TZNAME:UTC
DTSTART:20230101T000000
END:STANDARD
END:VTIMEZONE
BEGIN:VEVENT
DTSTART;TZID=UTC:20240626T100000
DTEND;TZID=UTC:20240626T120000
DTSTAMP:20260425T033849
CREATED:20240223T153456Z
LAST-MODIFIED:20240223T183231Z
UID:7123-1719396000-1719403200@milfordconservation.org
SUMMARY:Nature Walk
DESCRIPTION:Meeting Point:  Sturt Pond Bird Hide \n\n\n\nLeader: Keith Metcalf \n\n\n\nThe walk will be from the Hide to the Keyhaven Observatory along the coast taking in: \n\n\n\n\n\n\n\n\n\n\nnorth end of Sturt Pond LNR\n\n\n\nthe first part of the Spit along The Cut to second bridge (i.e. bridge to bridge)\n\n\n\nalong Saltgrass Lane viewing the farmland (north) and Mount Lake (south)\n\n\n\nalong the sea wall above Saltgrass Marsh and overlooking Keyhaven River area\n\n\n\nto Keyhaven Harbour\, finishing at\n\n\n\nthe bird Observatory.\n\n\n\n\n\n\nHe will then do a return trip along the same route in reverse and hope to complete the walk back to Sturt Pond by about noon or soon after. \n\n\n\nDon’t forget your binoculars if you have them\, as you never know what might turn up! \n\n\n\nNew members are especially welcome. \n\n\n\nEither fill in the form so that we know to expect you\, or just turn up on the day. \n\n\n\n\n\n\nPlease enable JavaScript in your browser to complete this form.Event *Name *FirstLastEmail *Contact numberComment or Message *Send
URL:https://milfordconservation.org/event/nature-walk-14/
CATEGORIES:Birds,Walks
END:VEVENT
END:VCALENDAR