BEGIN:VCALENDAR
VERSION:2.0
PRODID:-//Milford Conservation Volunteers - ECPv6.15.20//NONSGML v1.0//EN
CALSCALE:GREGORIAN
METHOD:PUBLISH
X-ORIGINAL-URL:https://milfordconservation.org
X-WR-CALDESC:Events for Milford Conservation Volunteers
REFRESH-INTERVAL;VALUE=DURATION:PT1H
X-Robots-Tag:noindex
X-PUBLISHED-TTL:PT1H
BEGIN:VTIMEZONE
TZID:UTC
BEGIN:STANDARD
TZOFFSETFROM:+0000
TZOFFSETTO:+0000
TZNAME:UTC
DTSTART:20230101T000000
END:STANDARD
END:VTIMEZONE
BEGIN:VEVENT
DTSTART;TZID=UTC:20241128T100000
DTEND;TZID=UTC:20241128T120000
DTSTAMP:20260424T193353
CREATED:20240920T140205Z
LAST-MODIFIED:20240920T172635Z
UID:7446-1732788000-1732795200@milfordconservation.org
SUMMARY:Nature Walk
DESCRIPTION:Sturt Pond Bird Hide to The Pans Observatory\n\n\n\nMeeting Point:  Sturt Pond Bird Hide  \n\n\n\nLeader:  Keith Metcalf \n\n\n\nWrap up warm and bring your binoculars as you walk along the seawall from Milford to Keyhaven to see what birds are visiting. \n\n\n\nOpen to everyone\, and new members are especially welcome. \n\n\n\nPlease wear  clothing and footwear appropriate for the weather conditions. Bring water and sunscreen as required. \n\n\n\nNote Any changes to the walk details will be published here\, so check back here to confirm. We also try to send an email reminder to members shortly before the walk date. \n\n\n\nEither fill in the form so that we know to expect you\, or just turn up on the day. \n\n\n\n\n\n\nPlease enable JavaScript in your browser to complete this form.Event *Name *FirstLastEmail *Contact numberComment or Message *Send
URL:https://milfordconservation.org/event/nature-walk-18/
CATEGORIES:Walks
END:VEVENT
END:VCALENDAR