BEGIN:VCALENDAR
VERSION:2.0
PRODID:-//Milford Conservation Volunteers - ECPv6.15.20//NONSGML v1.0//EN
CALSCALE:GREGORIAN
METHOD:PUBLISH
X-ORIGINAL-URL:https://milfordconservation.org
X-WR-CALDESC:Events for Milford Conservation Volunteers
REFRESH-INTERVAL;VALUE=DURATION:PT1H
X-Robots-Tag:noindex
X-PUBLISHED-TTL:PT1H
BEGIN:VTIMEZONE
TZID:UTC
BEGIN:STANDARD
TZOFFSETFROM:+0000
TZOFFSETTO:+0000
TZNAME:UTC
DTSTART:20240101T000000
END:STANDARD
END:VTIMEZONE
BEGIN:VEVENT
DTSTART;TZID=UTC:20250327T100000
DTEND;TZID=UTC:20250327T120000
DTSTAMP:20260424T142430
CREATED:20240920T141550Z
LAST-MODIFIED:20250304T192502Z
UID:7456-1743069600-1743076800@milfordconservation.org
SUMMARY:Nature Walk
DESCRIPTION:Note: Change of Venue\n\n\n\n\n\n\n\nBirds at Normandy Marsh\n\n\n\nMeeting Point: Maiden Lane\, Lymington at 10:00 or the Bridge Car Park by 9:40 for car sharing. \n\n\n\nLeader: Gill Watson \n\n\n\nDon’t forget your binoculars if you have them\, as you never know what might turn up! \n\n\n\nOpen to everyone\, and new members are especially welcome. \n\n\n\nPlease wear  clothing and footwear appropriate for the weather conditions. Bring water and sunscreen as required. \n\n\n\nNote Any changes to the walk details will be published here\, so check back here to confirm. We also try to send an email reminder to members shortly before the walk is due to take place. \n\n\n\nEither fill in the form so that we know to expect you\, or just turn up on the day. \n\n\n\n\n\n\nPlease enable JavaScript in your browser to complete this form.Event *Name *FirstLastEmail *Contact numberComment or Message *Send
URL:https://milfordconservation.org/event/7456/
CATEGORIES:Walks
END:VEVENT
END:VCALENDAR