BEGIN:VCALENDAR
VERSION:2.0
PRODID:-//Milford Conservation Volunteers - ECPv6.15.20//NONSGML v1.0//EN
CALSCALE:GREGORIAN
METHOD:PUBLISH
X-WR-CALNAME:Milford Conservation Volunteers
X-ORIGINAL-URL:https://milfordconservation.org
X-WR-CALDESC:Events for Milford Conservation Volunteers
REFRESH-INTERVAL;VALUE=DURATION:PT1H
X-Robots-Tag:noindex
X-PUBLISHED-TTL:PT1H
BEGIN:VTIMEZONE
TZID:UTC
BEGIN:STANDARD
TZOFFSETFROM:+0000
TZOFFSETTO:+0000
TZNAME:UTC
DTSTART:20230101T000000
END:STANDARD
END:VTIMEZONE
BEGIN:VEVENT
DTSTART;TZID=UTC:20240930T124500
DTEND;TZID=UTC:20240930T163000
DTSTAMP:20260425T161043
CREATED:20240920T134919Z
LAST-MODIFIED:20240920T170139Z
UID:7434-1727700300-1727713800@milfordconservation.org
SUMMARY:Beaulieu Boat Trip
DESCRIPTION:FULL\n\n\n\n\n\nMeeting Point: Details on registration \n\n\n\nLeader: Gill Palmer \n\n\n\nOn Monday 30th September\, I am organising a boat trip on the beautiful Beaulieu river to view some of the birds that are prevalent on the river bank as the tide falls\, maybe even there resident seals! \n\n\n\nThis trip will take place on my sailing boat (we will motor not sail up and down the river!!) and will be restricted to 8 people on a first come first served basis! We will look to arrange 2 cars from Milford as transport for those who sign up. \n\n\n\nAccess to the boat will be from a jetty via a step and a step fender. \n\n\n\nWe will leave Milford at 12.45pm and be back 4 to 4.30pm. \n\n\n\nPlease complete the attached form if you are interested and further details will then be sent to you. \n\n\n\nThe trip will be weather dependant! \n\n\n\nIf we are oversubscribed\, I will look to arrange another trip in the near future. \n\n\n\nGill \n\n\n\n\n\n\nEvent RegistrationPlease enable JavaScript in your browser to complete this form.Event *Name *FirstLastEmail *Contact numberComment or Message *Send
URL:https://milfordconservation.org/event/beaulieu-boat-trip/
CATEGORIES:Boat Trips
END:VEVENT
BEGIN:VEVENT
DTSTART;TZID=UTC:20241010T090000
DTEND;TZID=UTC:20241010T103000
DTSTAMP:20260425T161043
CREATED:20240912T061459Z
LAST-MODIFIED:20240920T165709Z
UID:7397-1728550800-1728556200@milfordconservation.org
SUMMARY:Creeks and Saltmarsh Boat Trip
DESCRIPTION:SOLD OUT \n\n\n\n\n\nThis is  a boat trip around Keyhaven Creeks and Saltmarsh\, led by bird expert\, Keith Metcalf.  \n\n\n\nSpace is limited so pre-booking is essential and payment needs to be received to confirm booking. Booking requests can be made using the form below\, after which you will be contacted by the organiser for payment. \n\n\n\nMeet at Keyhaven Hurst Castle Ferry Pontoon 5 minutes before departure. \n\n\n\nTicket Prices to cover costs only:\n\n\n\nMCV Members  £15 Non-MCV Members £20 \n\n\n\nMore Details \n\n\n\n \n\n\nPlease enable JavaScript in your browser to complete this form.Event *Date *Thursday\, 10th October 2023 (trip 53)Frinday 22nd November 2023 (trip 54)Monday 9th December 2023 (trip 55)Number of Seats Seats are for: *MembersNon MembersMixed - please enter details in Message Box belowName *FirstLastEmail *Contact number *Comment or MessageSend  \n\n\n\n\n\nYouth Birding Trip
URL:https://milfordconservation.org/event/creeks-and-saltmarsh-boat-trip-9/
CATEGORIES:Birds,Boat Trips
END:VEVENT
BEGIN:VEVENT
DTSTART;TZID=UTC:20241122T090000
DTEND;TZID=UTC:20241122T103000
DTSTAMP:20260425T161043
CREATED:20240912T062611Z
LAST-MODIFIED:20240920T165751Z
UID:7408-1732266000-1732271400@milfordconservation.org
SUMMARY:Creeks and Saltmarsh Boat Trip
DESCRIPTION:SOLD OUT \n\n\n\n\n\nThis is  a boat trip around Keyhaven Creeks and Saltmarsh\, led by bird expert\, Keith Metcalf.  \n\n\n\nSpace is limited so pre-booking is essential and payment needs to be received to confirm booking. Booking requests can be made using the form below\, after which you will be contacted by the organiser for payment. \n\n\n\nMeet at Keyhaven Hurst Castle Ferry Pontoon 5 minutes before departure. \n\n\n\nTicket Prices to cover costs only:\n\n\n\nMCV Members  £15 Non-MCV Members £20 \n\n\n\nMore Details \n\n\n\n \n\n\n\n \n\n\nPlease enable JavaScript in your browser to complete this form.Event *Date *Thursday\, 10th October 2023 (trip 53)Frinday 22nd November 2023 (trip 54)Monday 9th December 2023 (trip 55)Number of Seats Seats are for: *MembersNon MembersMixed - please enter details in Message Box belowName *FirstLastEmail *Contact number *Comment or MessageSend  \n\n\n\n\n\nYouth Birding Trip
URL:https://milfordconservation.org/event/creeks-and-saltmarsh-boat-trip-11/
CATEGORIES:Birds,Boat Trips
END:VEVENT
BEGIN:VEVENT
DTSTART;TZID=UTC:20241209T090000
DTEND;TZID=UTC:20241209T103000
DTSTAMP:20260425T161043
CREATED:20240912T062605Z
LAST-MODIFIED:20240925T083341Z
UID:7407-1733734800-1733740200@milfordconservation.org
SUMMARY:Creeks and Saltmarsh Boat Trip
DESCRIPTION:SOLD OUT \n\n\n\n\n\n\n\nThis is  a boat trip around Keyhaven Creeks and Saltmarsh\, led by bird expert\, Keith Metcalf.  \n\n\n\nSpace is limited so pre-booking is essential and payment needs to be received to confirm booking. Booking requests can be made using the form below\, after which you will be contacted by the organiser for payment. \n\n\n\nMeet at Keyhaven Hurst Castle Ferry Pontoon 5 minutes before departure. \n\n\n\nTicket Prices to cover costs only:\n\n\n\nMCV Members  £15 Non-MCV Members £20 \n\n\n\nMore Details \n\n\n\n \n\n\nPlease enable JavaScript in your browser to complete this form.Event *Date *Thursday\, 10th October 2023 (trip 53)Frinday 22nd November 2023 (trip 54)Monday 9th December 2023 (trip 55)Number of Seats Seats are for: *MembersNon MembersMixed - please enter details in Message Box belowName *FirstLastEmail *Contact number *Comment or MessageSend  \n\n\n\n\n\nYouth Birding Trip
URL:https://milfordconservation.org/event/creeks-and-saltmarsh-boat-trip-10/
CATEGORIES:Birds,Boat Trips
END:VEVENT
BEGIN:VEVENT
DTSTART;TZID=UTC:20250122T090000
DTEND;TZID=UTC:20250122T103000
DTSTAMP:20260425T161043
CREATED:20241005T111337Z
LAST-MODIFIED:20241016T103013Z
UID:7575-1737536400-1737541800@milfordconservation.org
SUMMARY:Creeks and Saltmarsh Boat Trip
DESCRIPTION:SOLD OUT \n\n\n\n\n\nThis is  a boat trip around Keyhaven Creeks and Saltmarsh\, led by bird expert\, Keith Metcalf.  \n\n\n\nSpace is limited so pre-booking is essential and payment needs to be received to confirm booking. Booking requests can be made using the form below\, after which you will be contacted by the organiser for payment. \n\n\n\nMeet at Keyhaven Hurst Castle Ferry Pontoon 5 minutes before departure. \n\n\n\nTicket Prices to cover costs only:\n\n\n\nMCV Members  £15 Non-MCV Members £20 \n\n\n\nMore Details \n\n\n\n \n\n\nPlease enable JavaScript in your browser to complete this form.Event *Date *Wednesday 22nd January 2025 (trip 56)Tuesday 18th February 2025 (trip 57)Friday 21st March 2025 (trip 58)Number of Seats Seats are for: *MembersNon MembersMixed - please enter details in Message Box belowName *FirstLastEmail *Contact number *Comment or MessageSend  \n\n\n\n\n\nYouth Birding Trip
URL:https://milfordconservation.org/event/creeks-and-saltmarsh-boat-trip-13/
CATEGORIES:Boat Trips
END:VEVENT
BEGIN:VEVENT
DTSTART;TZID=UTC:20250218T090000
DTEND;TZID=UTC:20250218T103000
DTSTAMP:20260425T161043
CREATED:20241005T111334Z
LAST-MODIFIED:20241016T103114Z
UID:7576-1739869200-1739874600@milfordconservation.org
SUMMARY:Creeks and Saltmarsh Boat Trip
DESCRIPTION:SOLD OUT \n\n\n\n\n\nThis is  a boat trip around Keyhaven Creeks and Saltmarsh\, led by bird expert\, Keith Metcalf.  \n\n\n\nSpace is limited so pre-booking is essential and payment needs to be received to confirm booking. Booking requests can be made using the form below\, after which you will be contacted by the organiser for payment. \n\n\n\nMeet at Keyhaven Hurst Castle Ferry Pontoon 5 minutes before departure. \n\n\n\nTicket Prices to cover costs only:\n\n\n\nMCV Members  £15 Non-MCV Members £20 \n\n\n\nMore Details \n\n\n\n \n\n\nPlease enable JavaScript in your browser to complete this form.Event *Date *Wednesday 22nd January 2025 (trip 56)Tuesday 18th February 2025 (trip 57)Friday 21st March 2025 (trip 58)Number of Seats Seats are for: *MembersNon MembersMixed - please enter details in Message Box belowName *FirstLastEmail *Contact number *Comment or MessageSend  \n\n\n\n\n\nYouth Birding Trip
URL:https://milfordconservation.org/event/creeks-and-saltmarsh-boat-trip-12/
CATEGORIES:Boat Trips
END:VEVENT
BEGIN:VEVENT
DTSTART;TZID=UTC:20250321T090000
DTEND;TZID=UTC:20250321T113000
DTSTAMP:20260425T161043
CREATED:20241130T104450Z
LAST-MODIFIED:20241130T113414Z
UID:7642-1742547600-1742556600@milfordconservation.org
SUMMARY:Creeks and Saltmarsh Boat Trip
DESCRIPTION:This is  a boat trip around Keyhaven Creeks and Saltmarsh\, led by bird expert\, Keith Metcalf.  \n\n\n\nSpace is limited so pre-booking is essential and payment needs to be received to confirm booking. Booking requests can be made using the form below\, after which you will be contacted by the organiser for payment. \n\n\n\nMeet at Keyhaven Hurst Castle Ferry Pontoon 5 minutes before departure. \n\n\n\nTicket Prices to cover costs only:\n\n\n\nMCV Members  £15 Non-MCV Members £20 \n\n\n\nMore Details \n\n\nPlease enable JavaScript in your browser to complete this form.Event *Date *Wednesday 22nd January 2025 (trip 56)Tuesday 18th February 2025 (trip 57)Friday 21st March 2025 (trip 58)Number of Seats Seats are for: *MembersNon MembersMixed - please enter details in Message Box belowName *FirstLastEmail *Contact number *Comment or MessageSend  \n\n\n\n\n\nYouth Birding Trip\n\n\n2025-POSTER-CREEKS-and-SALTMARSH-EXTRA-WINTER-TRIP-2025-58
URL:https://milfordconservation.org/event/7642/
CATEGORIES:Birds,Boat Trips
END:VEVENT
BEGIN:VEVENT
DTSTART;TZID=UTC:20260124T090000
DTEND;TZID=UTC:20260124T223000
DTSTAMP:20260425T161043
CREATED:20251217T142029Z
LAST-MODIFIED:20251217T144306Z
UID:8134-1769245200-1769293800@milfordconservation.org
SUMMARY:Creeks & Saltmarsh Boat Trip
DESCRIPTION:This is  a boat trip around Keyhaven Creeks and Saltmarsh\, led by bird expert\, Keith Metcalf.  \n\n\n\nSpace is limited so pre-booking is essential and payment needs to be received to confirm booking. Please contact Keith using the details in the poster. \n\n\n\nMeet at Keyhaven Hurst Castle Ferry Pontoon 5 minutes before departure. \n\n\n\nTicket Prices to cover costs only:\n\n\n\nMCV Members £16Non-MCV Members £21 \n\n\n\n\nC-and-S-TRIP-62-63-POSTER-2026
URL:https://milfordconservation.org/event/creeks-saltmarsh-boat-trip-6/
CATEGORIES:Birds,Boat Trips
END:VEVENT
BEGIN:VEVENT
DTSTART;TZID=UTC:20260224T090000
DTEND;TZID=UTC:20260224T223000
DTSTAMP:20260425T161043
CREATED:20251217T142015Z
LAST-MODIFIED:20251217T144431Z
UID:8135-1771923600-1771972200@milfordconservation.org
SUMMARY:Creeks & Saltmarsh Boat Trip
DESCRIPTION:This is  a boat trip around Keyhaven Creeks and Saltmarsh\, led by bird expert\, Keith Metcalf.  \n\n\n\nSpace is limited so pre-booking is essential and payment needs to be received to confirm booking. Please contact Keith using the details in the poster. \n\n\n\nMeet at Keyhaven Hurst Castle Ferry Pontoon 5 minutes before departure. \n\n\n\nTicket Prices to cover costs only:\n\n\n\nMCV Members £16Non-MCV Members £21 \n\n\n\n\nC-and-S-TRIP-62-63-POSTER-2026
URL:https://milfordconservation.org/event/creeks-saltmarsh-boat-trip-5/
CATEGORIES:Birds,Boat Trips
END:VEVENT
END:VCALENDAR