BEGIN:VCALENDAR
VERSION:2.0
PRODID:-//Milford Conservation Volunteers - ECPv6.15.20//NONSGML v1.0//EN
CALSCALE:GREGORIAN
METHOD:PUBLISH
X-WR-CALNAME:Milford Conservation Volunteers
X-ORIGINAL-URL:https://milfordconservation.org
X-WR-CALDESC:Events for Milford Conservation Volunteers
REFRESH-INTERVAL;VALUE=DURATION:PT1H
X-Robots-Tag:noindex
X-PUBLISHED-TTL:PT1H
BEGIN:VTIMEZONE
TZID:UTC
BEGIN:STANDARD
TZOFFSETFROM:+0000
TZOFFSETTO:+0000
TZNAME:UTC
DTSTART:20210101T000000
END:STANDARD
END:VTIMEZONE
BEGIN:VEVENT
DTSTART;TZID=UTC:20230314T100000
DTEND;TZID=UTC:20230314T223000
DTSTAMP:20260425T115518
CREATED:20230209T145148Z
LAST-MODIFIED:20230209T145238Z
UID:5803-1678788000-1678833000@milfordconservation.org
SUMMARY:Creeks and Saltmarsh Boat Trip 
DESCRIPTION:SOLD OUT \n\n\n\n\n\n\n\nThis is  a boat trip around Keyhaven Creeks and Saltmarsh\, led by bird expert\, Keith Metcalf.  \n\n\n\nSpace is limited so pre-booking is essential and payment needs to be received to confirm booking. Booking requests can be made using the form below\, after which you will be contacted by the organiser for payment. \n\n\n\nMeet at Keyhaven Hurst Castle Ferry Pontoon 5 minutes before departure. \n\n\n\nTicket Prices to cover costs only:\n\n\n\nMCV Members  £15 Non-MCV Members £18  \n\n\nTicket Reservation and Enquiries Please enable JavaScript in your browser to complete this form.Event *Date *Friday\, 20th October 2023 (trip 46)Monday 20th November 2023 (trip 47)Monday 4th December 2023 (trip 48)Number of Seats Seats are for: *MembersNon MembersMixed - please enter details in Message Box belowName *FirstLastEmail *Contact number *Comment or MessageSend \n\n\n\n\n\nYouth Birding Trip\n\n\n\nCreeks and Saltmarsh
URL:https://milfordconservation.org/event/creeks-and-saltmarsh-boat-trip-8/
CATEGORIES:Birds,Boat Trips
END:VEVENT
BEGIN:VEVENT
DTSTART;TZID=UTC:20230225T100000
DTEND;TZID=UTC:20230225T100000
DTSTAMP:20260425T115518
CREATED:20230209T144924Z
LAST-MODIFIED:20230209T144957Z
UID:5801-1677319200-1677319200@milfordconservation.org
SUMMARY:Creeks and Saltmarsh Boat Trip 
DESCRIPTION:SOLD OUT \n\n\n\n\n\n\n\nThis is  a boat trip around Keyhaven Creeks and Saltmarsh\, led by bird expert\, Keith Metcalf.  \n\n\n\nSpace is limited so pre-booking is essential and payment needs to be received to confirm booking. Booking requests can be made using the form below\, after which you will be contacted by the organiser for payment. \n\n\n\nMeet at Keyhaven Hurst Castle Ferry Pontoon 5 minutes before departure. \n\n\n\nTicket Prices to cover costs only:\n\n\n\nMCV Members  £15 Non-MCV Members £18  \n\n\nTicket Reservation and Enquiries Please enable JavaScript in your browser to complete this form.Event *Date *Friday\, 20th October 2023 (trip 46)Monday 20th November 2023 (trip 47)Monday 4th December 2023 (trip 48)Number of Seats Seats are for: *MembersNon MembersMixed - please enter details in Message Box belowName *FirstLastEmail *Contact number *Comment or MessageSend \n\n\n\n\n\nYouth Birding Trip\n\n\n\nCreeks and Saltmarsh
URL:https://milfordconservation.org/event/creeks-and-saltmarsh-boat-trip-7/
CATEGORIES:Birds,Boat Trips
END:VEVENT
BEGIN:VEVENT
DTSTART;TZID=UTC:20230224T100000
DTEND;TZID=UTC:20230224T120000
DTSTAMP:20260425T115518
CREATED:20230125T182106Z
LAST-MODIFIED:20230125T190134Z
UID:5741-1677232800-1677240000@milfordconservation.org
SUMMARY:Nature Walk
DESCRIPTION:Meeting Point:  Sturt Pond Bird Hide \n\n\n\nLeader: Keith Metcalf \n\n\n\nKeith is known to many of you and will be leading another walk along the sea wall from Sturt Pond Bird Hide to Keyhaven Observatory\, Looking to see what birds the weather has brought to our shores. \n\n\n\nDon’t forget your binoculars if you have them\, as you never know what might turn up! \n\n\n\nNew members are especially welcome. \n\n\n\nEither fill in the form so that we know to expect you\, or just turn up on the day. \n\n\n\n\n\n\nPlease enable JavaScript in your browser to complete this form.Event *Name *FirstLastEmail *Contact numberComment or Message *Send
URL:https://milfordconservation.org/event/nature-walk-6/
LOCATION:Sturt Pond Bide Hide to Keyhaven Bird Observatory
CATEGORIES:Birds,Walks
END:VEVENT
BEGIN:VEVENT
DTSTART;TZID=UTC:20230223T100000
DTEND;TZID=UTC:20230223T123000
DTSTAMP:20260425T115518
CREATED:20230123T165302Z
LAST-MODIFIED:20230209T143047Z
UID:5662-1677146400-1677155400@milfordconservation.org
SUMMARY:Conservation Task
DESCRIPTION:Meeting point to be posted nearer the time.  \n\n\n\n\n\n\n\nDetails of this event are sent to everyone on the volunteer task list. If you would like to join the list please fill in our contact form.  \n\n\n\nTasks are planned with the parish council\, and vary from lighter clearance work e.g. footpaths\, bramble\, rhododendron and hazel coppice\, to heavier work like drainage\, revetment or footpaths. \n\n\n\nVolunteers should wear gloves and sturdy footwear\, safety glasses and  long trousers recommended. Depending on the season and weather  bring along sunscreen and insect repellent and if you need it\, and bring your own water/refreshments.
URL:https://milfordconservation.org/event/conservation-task-2/
CATEGORIES:Tasks,Volunteering
END:VEVENT
BEGIN:VEVENT
DTSTART;TZID=UTC:20230213T090000
DTEND;TZID=UTC:20230213T103000
DTSTAMP:20260425T115518
CREATED:20220920T193313Z
LAST-MODIFIED:20230125T155029Z
UID:5451-1676278800-1676284200@milfordconservation.org
SUMMARY:Creeks and Saltmarsh Boat Trip 
DESCRIPTION:SOLD OUT \n\n\n\n\n\n\n\nThis is  a boat trip around Keyhaven Creeks and Saltmarsh\, led by bird expert\, Keith Metcalf.  \n\n\n\nSpace is limited so pre-booking is essential and payment needs to be received to confirm booking. Booking requests can be made using the form below\, after which you will be contacted by the organiser for payment. \n\n\n\nMeet at Keyhaven Hurst Castle Ferry Pontoon 5 minutes before departure. \n\n\n\nTicket Prices to cover costs only:\n\n\n\nMCV Members  £15 Non-MCV Members £18  \n\n\nTicket Reservation and Enquiries Please enable JavaScript in your browser to complete this form.Event *Date *Friday\, 20th October 2023 (trip 46)Monday 20th November 2023 (trip 47)Monday 4th December 2023 (trip 48)Number of Seats Seats are for: *MembersNon MembersMixed - please enter details in Message Box belowName *FirstLastEmail *Contact number *Comment or MessageSend \n\n\n\n\n\nYouth Birding Trip\n\n\n\nCreeks and Saltmarsh
URL:https://milfordconservation.org/event/creeks-and-saltmarsh-boat-trip-4/
CATEGORIES:Birds,Boat Trips
END:VEVENT
BEGIN:VEVENT
DTSTART;TZID=UTC:20230129T103000
DTEND;TZID=UTC:20230129T160000
DTSTAMP:20260425T115518
CREATED:20230125T183055Z
LAST-MODIFIED:20230125T183056Z
UID:5746-1674988200-1675008000@milfordconservation.org
SUMMARY:New Forest Volunteer Fair
DESCRIPTION:MCV will have a stall at the New Forest Volunteer Fair which is being held this year in Brockenhurst. Come  Full details in link below
URL:https://milfordconservation.org/event/new-forest-volunteer-fair/
LOCATION:Brockenhurst Village Hall
CATEGORIES:General
END:VEVENT
BEGIN:VEVENT
DTSTART;TZID=UTC:20230126T100000
DTEND;TZID=UTC:20230126T123000
DTSTAMP:20260425T115518
CREATED:20230123T164658Z
LAST-MODIFIED:20230209T143100Z
UID:5660-1674727200-1674736200@milfordconservation.org
SUMMARY:Conservation Task
DESCRIPTION:Meet at the entrance to the lower pleasure grounds by Kivernell Road.   \n\n\n\nWear warm clothing as it can be cold when you are not in the sun. The task is to redo some drainage and fill in holes in the footpath. Some of the work is heavy but there are always light tasks to be done. So please come along and enjoy some time out enjoying the winter sun with like minded people. \n\n\n\n\n\n\n\nDetails of this event are sent to everyone on the volunteer task list. If you would like to join the list please fill in our contact form.  \n\n\n\nTasks are planned with the parish council\, and vary from lighter clearance work e.g. footpaths\, bramble\, rhododendron and hazel coppice\, to heavier work like drainage\, revetment or footpaths. \n\n\n\nVolunteers should wear gloves and sturdy footwear\, safety glasses and  long trousers recommended. With summer coming along sunscreen and insect repellent if you need it and bring your own water/refreshments.
URL:https://milfordconservation.org/event/conservation-task/
CATEGORIES:Tasks,Volunteering
END:VEVENT
BEGIN:VEVENT
DTSTART;TZID=UTC:20230120T100000
DTEND;TZID=UTC:20230120T120000
DTSTAMP:20260425T115518
CREATED:20221025T151157Z
LAST-MODIFIED:20230125T154915Z
UID:5497-1674208800-1674216000@milfordconservation.org
SUMMARY:January Nature walk
DESCRIPTION:Guided tour of Downton Lane dam by Environment Agency\n\n\n\nLeader: David Horne \n\n\n\nNOTE: This tour has a limited of 10 people due to the size of the dam control room. It is expected that more can join the tour\, without seeing the control room. \n\n\n\nmeeting place – to be advised \n\n\n\nThis is a members only event unless agreed with organiser.  \n\n\n\nNew members are especially welcome. \n\n\n\nEither fill in the form below  so that we know to expect you\, or just turn up on the day. \n\n\n\n\nPlease enable JavaScript in your browser to complete this form.Event *Name *FirstLastEmail *Contact numberComment or Message *Send
URL:https://milfordconservation.org/event/january-nature-walk/
CATEGORIES:General,Walks
END:VEVENT
BEGIN:VEVENT
DTSTART;TZID=UTC:20230114T090000
DTEND;TZID=UTC:20230114T103000
DTSTAMP:20260425T115518
CREATED:20220920T162033Z
LAST-MODIFIED:20230125T155258Z
UID:5449-1673686800-1673692200@milfordconservation.org
SUMMARY:Creeks and Saltmarsh Boat Trip   
DESCRIPTION:CANCELLED DUE TO BAD WEATHER\n\n\n\nSOLD OUT \n\n\n\n\n\nThis is  a boat trip around Keyhaven Creeks and Saltmarsh\, led by bird expert\, Keith Metcalf.  \n\n\n\nSpace is limited so pre-booking is essential and payment needs to be received to confirm booking. Booking requests can be made using the form below\, after which you will be contacted by the organiser for payment. \n\n\n\nMeet at Keyhaven Hurst Castle Ferry Pontoon 5 minutes before departure. \n\n\n\nTicket Prices to cover costs only:\n\n\n\nMCV Members  £15 Non-MCV Members £18  \n\n\nTicket Reservation and Enquiries Please enable JavaScript in your browser to complete this form.Event *Date *Friday\, 20th October 2023 (trip 46)Monday 20th November 2023 (trip 47)Monday 4th December 2023 (trip 48)Number of Seats Seats are for: *MembersNon MembersMixed - please enter details in Message Box belowName *FirstLastEmail *Contact number *Comment or MessageSend \n\n\n\n\n\nYouth Birding Trip\n\n\n\nCreeks and Saltmarsh
URL:https://milfordconservation.org/event/creeks-and-saltmarsh-boat-trip-5/
CATEGORIES:Birds,Boat Trips
END:VEVENT
BEGIN:VEVENT
DTSTART;TZID=UTC:20221217T100000
DTEND;TZID=UTC:20221217T120000
DTSTAMP:20260425T115518
CREATED:20220503T142606Z
LAST-MODIFIED:20221129T145817Z
UID:4419-1671271200-1671278400@milfordconservation.org
SUMMARY:Birding for Beginners
DESCRIPTION:Open mornings are held every 3rd Saturday of the month at Sturt Pond Bird Hide. \n\n\n\nLocal bird experts are available to help identify birds and answer questions. Binoculars and Scopes available. Everyone welcome\, so why not come along and see what’s happening? \n\n\n\nDetails of venue here
URL:https://milfordconservation.org/event/birding-for-beginners-11/
CATEGORIES:Birds
END:VEVENT
BEGIN:VEVENT
DTSTART;TZID=UTC:20221215T090000
DTEND;TZID=UTC:20221215T223000
DTSTAMP:20260425T115518
CREATED:20220905T113110Z
LAST-MODIFIED:20221129T145030Z
UID:5429-1671094800-1671143400@milfordconservation.org
SUMMARY:Creeks and Saltmarsh Boat Trip  
DESCRIPTION:SOLD OUT \n\n\n\n\n\nThis is  a boat trip around Keyhaven Creeks and Saltmarsh\, led by bird expert\, Keith Metcalf.  \n\n\n\nSpace is limited so pre-booking is essential and payment needs to be received to confirm booking. Booking requests can be made using the form below\, after which you will be contacted by the organiser for payment. \n\n\n\nMeet at Keyhaven Hurst Castle Ferry Pontoon 5 minutes before departure. \n\n\n\nTicket Prices to cover costs only:\n\n\n\nMCV Members  £15 Non-MCV Members £18  \n\n\nTicket Reservation and Enquiries Please enable JavaScript in your browser to complete this form.Event *Date *Friday\, 20th October 2023 (trip 46)Monday 20th November 2023 (trip 47)Monday 4th December 2023 (trip 48)Number of Seats Seats are for: *MembersNon MembersMixed - please enter details in Message Box belowName *FirstLastEmail *Contact number *Comment or MessageSend \n\n\n\n\n\nYouth Birding Trip\n\n\n\nCreeks and Saltmarsh
URL:https://milfordconservation.org/event/creeks-and-saltmarsh-boat-trip-2/
LOCATION:Keyhaven Hurst Ferry Pontoon
CATEGORIES:Birds,Boat Trips
END:VEVENT
BEGIN:VEVENT
DTSTART;TZID=UTC:20221203T100000
DTEND;TZID=UTC:20221203T120000
DTSTAMP:20260425T115518
CREATED:20220503T131323Z
LAST-MODIFIED:20221129T151500Z
UID:4404-1670061600-1670068800@milfordconservation.org
SUMMARY:Birding for Beginners
DESCRIPTION:Open mornings are held every 1st Saturday of the month at Keyhaven Bird Observatory.  \n\n\n\nLocal bird experts are available to help identify birds and answer questions. Scopes and binoculars are available to use.  \n\n\n\nEveryone welcome\,  so why not come along and see what’s happening today? \n\n\n\nDetails of venue here
URL:https://milfordconservation.org/event/birding-for-beginners-4/
LOCATION:KeyHaven Bird Observatory\, Keyhaven
CATEGORIES:Birds
END:VEVENT
BEGIN:VEVENT
DTSTART;TZID=UTC:20221130T090000
DTEND;TZID=UTC:20221130T223000
DTSTAMP:20260425T115518
CREATED:20221121T181828Z
LAST-MODIFIED:20221129T144759Z
UID:5514-1669798800-1669847400@milfordconservation.org
SUMMARY:Creeks and Saltmarsh Boat Trip  
DESCRIPTION:SOLD OUT \n\n\n\nThis is a replacement for the Nov 19th trip which was postponed due to bad weather. \n\n\n\n\n\nThis is  a boat trip around Keyhaven Creeks and Saltmarsh\, led by Keith Metcalf.  \n\n\n\nSpace is limited so pre-booking is essential and payment needs to be received to confirm booking. Booking requests can be made using the form below\, after which you will be contacted by the organiser for payment. \n\n\n\nMeet at Keyhaven Hurst Castle Ferry Pontoon 5 minutes before departure. \n\n\n\nTicket Prices to cover costs only:\n\n\n\nMCV Members  £15 Non-MCV Members £18  \n\n\nTicket Reservation and Enquiries Please enable JavaScript in your browser to complete this form.Event *Date *Friday\, 20th October 2023 (trip 46)Monday 20th November 2023 (trip 47)Monday 4th December 2023 (trip 48)Number of Seats Seats are for: *MembersNon MembersMixed - please enter details in Message Box belowName *FirstLastEmail *Contact number *Comment or MessageSend \n\n\n\n\n\nYouth Birding Trip\n\n\n\nCreeks and Saltmarsh
URL:https://milfordconservation.org/event/creeks-and-saltmarsh-boat-trip-6/
CATEGORIES:Birds,Boat Trips
END:VEVENT
BEGIN:VEVENT
DTSTART;TZID=UTC:20221119T100000
DTEND;TZID=UTC:20221119T120000
DTSTAMP:20260425T115518
CREATED:20220503T142510Z
LAST-MODIFIED:20220503T142512Z
UID:4418-1668852000-1668859200@milfordconservation.org
SUMMARY:Birding for Beginners
DESCRIPTION:Open mornings are held every 3rd Saturday of the month at Sturt Pond Bird Hide. \n\n\n\nLocal bird experts are available to help identify birds and answer questions. Binoculars and Scopes available. Everyone welcome\, so why not come along and see what’s happening? \n\n\n\nDetails of venue here
URL:https://milfordconservation.org/event/birding-for-beginners-10/
END:VEVENT
BEGIN:VEVENT
DTSTART;TZID=UTC:20221116T090000
DTEND;TZID=UTC:20221116T103000
DTSTAMP:20260425T115518
CREATED:20220905T112811Z
LAST-MODIFIED:20230125T155050Z
UID:5424-1668589200-1668594600@milfordconservation.org
SUMMARY:Creeks and Saltmarsh Boat Trip  
DESCRIPTION:SOLD OUT  – Due to weather this trip has been postponed until November 30th \n\n\n\n\n\nThis is  a boat trip around Keyhaven Creeks and Saltmarsh\, led by bird expert\, Keith Metcalf.  \n\n\n\nSpace is limited so pre-booking is essential and payment needs to be received to confirm booking. Booking requests can be made using the form below\, after which you will be contacted by the organiser for payment. \n\n\n\nMeet at Keyhaven Hurst Castle Ferry Pontoon 5 minutes before departure. \n\n\n\nTicket Prices to cover costs only:\n\n\n\nMCV Members  £15 Non-MCV Members £18  \n\n\nTicket Reservation and Enquiries Please enable JavaScript in your browser to complete this form.Event *Date *Friday\, 20th October 2023 (trip 46)Monday 20th November 2023 (trip 47)Monday 4th December 2023 (trip 48)Number of Seats Seats are for: *MembersNon MembersMixed - please enter details in Message Box belowName *FirstLastEmail *Contact number *Comment or MessageSend \n\n\n\n\n\nYouth Birding Trip\n\n\n\nCreeks and Saltmarsh
URL:https://milfordconservation.org/event/creeks-and-saltmarsh-boat-trip/
LOCATION:Keyhaven Hurst Ferry Pontoon
CATEGORIES:Birds,Boat Trips
END:VEVENT
BEGIN:VEVENT
DTSTART;TZID=UTC:20221109T100000
DTEND;TZID=UTC:20221109T120000
DTSTAMP:20260425T115518
CREATED:20221025T150713Z
LAST-MODIFIED:20230125T154948Z
UID:5496-1667988000-1667995200@milfordconservation.org
SUMMARY:November Nature Walk
DESCRIPTION:Downton Quarry Lakes\n\n\n\nLeader: David Horne \n\n\n\nMeet at Shorefield Rd entrance (limited parking available). \n\n\n\nThis is a members only event unless agreed with organiser.  \n\n\n\nNew members are especially welcome. \n\n\n\nEither fill in the form below  so that we know to expect you\, or just turn up on the day. \n\n\n\n\nPlease enable JavaScript in your browser to complete this form.Event *Name *FirstLastEmail *Contact numberComment or Message *Send
URL:https://milfordconservation.org/event/november-nature-walk/
CATEGORIES:Walks
END:VEVENT
BEGIN:VEVENT
DTSTART;TZID=UTC:20221105T100000
DTEND;TZID=UTC:20221105T120000
DTSTAMP:20260425T115518
CREATED:20220503T131359Z
LAST-MODIFIED:20220503T131402Z
UID:4403-1667642400-1667649600@milfordconservation.org
SUMMARY:Birding for Beginners
DESCRIPTION:Open mornings are held every 1st Saturday of the month at Keyhaven Bird Observatory.  \n\n\n\nLocal bird experts are available to help identify birds and answer questions. Equipment provided.  \n\n\n\nEveryone welcome\,  so why not come along and see what’s happening? \n\n\n\nDetails of venue here
URL:https://milfordconservation.org/event/birding-for-beginners-5/
LOCATION:KeyHaven Bird Observatory\, Keyhaven
END:VEVENT
BEGIN:VEVENT
DTSTART;TZID=UTC:20221026T100000
DTEND;TZID=UTC:20221026T120000
DTSTAMP:20260425T115518
CREATED:20220501T111414Z
LAST-MODIFIED:20221025T151400Z
UID:4158-1666778400-1666785600@milfordconservation.org
SUMMARY:October Nature Walk
DESCRIPTION:POSTPONED UNTIL 20th JANUARY 2023   details\n\n\n\nMilford Dam    \n\n\n\nFor our October Nature Walk we hope to be able to organise a visit to the Milford Dam at Downton with an expert from the environment Agency. \n\n\n\nSave the date and we will confirm details as soon as we can. \n\n\n\nThis is a members only event unless agreed with organiser.  \n\n\n\nNew members are especially welcome. \n\n\n\nEither fill in the form so that we know to expect you\, or just turn up on the day. \n\n\n\n\nPlease enable JavaScript in your browser to complete this form.Event *Name *FirstLastEmail *Contact numberComment or Message *Send
URL:https://milfordconservation.org/event/october-nature-walk/
CATEGORIES:Walks
END:VEVENT
BEGIN:VEVENT
DTSTART;TZID=UTC:20221017T090000
DTEND;TZID=UTC:20221017T103000
DTSTAMP:20260425T115518
CREATED:20220902T114325Z
LAST-MODIFIED:20230125T155100Z
UID:5346-1665997200-1666002600@milfordconservation.org
SUMMARY:Creeks and Saltmarsh Boat Trip                           
DESCRIPTION:SOLD OUT \n\n\n\nThis is  a boat trip around Keyhaven Creeks and Saltmarsh\, led by bird expert\, Keith Metcalf.  \n\n\n\nSpace is limited so pre-booking is essential and payment needs to be received to confirm booking. Booking requests can be made using the form below\, after which you will be contacted by the organiser for payment. \n\n\n\nMeet at Keyhaven Hurst Castle Ferry Pontoon 5 minutes before departure. \n\n\n\nTicket Prices to cover costs only:\n\n\n\nMCV Members  £15 Non-MCV Members £18  \n\n\nTicket Reservation and Enquiries Please enable JavaScript in your browser to complete this form.Event *Date *Friday\, 20th October 2023 (trip 46)Monday 20th November 2023 (trip 47)Monday 4th December 2023 (trip 48)Number of Seats Seats are for: *MembersNon MembersMixed - please enter details in Message Box belowName *FirstLastEmail *Contact number *Comment or MessageSend \n\n\n\n\n\nYouth Birding Trip\n\n\n\nCreeks and Saltmarsh
URL:https://milfordconservation.org/event/keyhaven-boat-trip/
LOCATION:Keyhaven Hurst Ferry Pontoon
CATEGORIES:Birds,Boat Trips
END:VEVENT
BEGIN:VEVENT
DTSTART;TZID=UTC:20221015T100000
DTEND;TZID=UTC:20221015T120000
DTSTAMP:20260425T115518
CREATED:20220503T142421Z
LAST-MODIFIED:20220503T142423Z
UID:4417-1665828000-1665835200@milfordconservation.org
SUMMARY:Birding for Beginners
DESCRIPTION:Open mornings are held every 3rd Saturday of the month at Sturt Pond Bird Hide. \n\n\n\nLocal bird experts are available to help identify birds and answer questions. Binoculars and Scopes available. Everyone welcome\, so why not come along and see what’s happening? \n\n\n\nDetails of venue here
URL:https://milfordconservation.org/event/birding-for-beginners-9/
END:VEVENT
BEGIN:VEVENT
DTSTART;TZID=UTC:20221001T100000
DTEND;TZID=UTC:20221001T120000
DTSTAMP:20260425T115518
CREATED:20220503T131441Z
LAST-MODIFIED:20220503T131444Z
UID:4405-1664618400-1664625600@milfordconservation.org
SUMMARY:Birding for Beginners
DESCRIPTION:Open mornings are held every 1st Saturday of the month at Keyhaven Bird Observatory.  \n\n\n\nLocal bird experts are available to help identify birds and answer questions. Equipment provided.  \n\n\n\nEveryone welcome\,  so why not come along and see what’s happening? \n\n\n\nDetails of venue here
URL:https://milfordconservation.org/event/birding-for-beginners-6/
LOCATION:KeyHaven Bird Observatory\, Keyhaven
END:VEVENT
BEGIN:VEVENT
DTSTART;TZID=UTC:20220928T100000
DTEND;TZID=UTC:20220928T120000
DTSTAMP:20260425T115518
CREATED:20220501T111113Z
LAST-MODIFIED:20220730T184204Z
UID:4156-1664359200-1664366400@milfordconservation.org
SUMMARY:September Nature Walk
DESCRIPTION:Saltgrass Marsh\n\n\n\nFormer MCV Conservation Officer\, Keith Metcalf will be leading this walk along the sea wall to Keyhaven.  Bring your binoculars if you have them. \n\n\n\nMeet at the crabbing bridge at the junction of New Lane and Saltgrass Lane. \n\n\n\nThis is a members only event unless agreed with organiser.  \n\n\n\nNew members are especially welcome. \n\n\n\nEither fill in the form below  so that we know to expect you\, or just turn up on the day. \n\n\n\n\n\n\n\n\nPlease enable JavaScript in your browser to complete this form.Event *Name *FirstLastEmail *Contact numberComment or Message *Send
URL:https://milfordconservation.org/event/september-nature-walk/
CATEGORIES:Walks
END:VEVENT
BEGIN:VEVENT
DTSTART;TZID=UTC:20220917T100000
DTEND;TZID=UTC:20220917T120000
DTSTAMP:20260425T115518
CREATED:20220503T142621Z
LAST-MODIFIED:20220503T142623Z
UID:4416-1663408800-1663416000@milfordconservation.org
SUMMARY:Birding for Beginners
DESCRIPTION:Open mornings are held every 3rd Saturday of the month at Sturt Pond Bird Hide. \n\n\n\nLocal bird experts are available to help identify birds and answer questions. Binoculars and Scopes available. Everyone welcome\, so why not come along and see what’s happening? \n\n\n\nDetails of venue here
URL:https://milfordconservation.org/event/birding-for-beginners-12/
END:VEVENT
BEGIN:VEVENT
DTSTART;TZID=UTC:20220903T100000
DTEND;TZID=UTC:20220903T120000
DTSTAMP:20260425T115518
CREATED:20220503T130841Z
LAST-MODIFIED:20220920T163822Z
UID:4074-1662199200-1662206400@milfordconservation.org
SUMMARY:Birding for Beginners
DESCRIPTION:Open mornings are held every 1st Saturday of the month at Keyhaven Bird Observatory.  \n\n\n\nLocal bird experts are available to help identify birds and answer questions. Equipment provided.  \n\n\n\nEveryone welcome\,  so why not come along and see what’s happening? \n\n\n\nDetails of venue here
URL:https://milfordconservation.org/event/birding-for-beginners-3/
LOCATION:KeyHaven Bird Observatory\, Keyhaven
END:VEVENT
BEGIN:VEVENT
DTSTART;TZID=UTC:20220831T093000
DTEND;TZID=UTC:20220831T123000
DTSTAMP:20260425T115518
CREATED:20220819T173036Z
LAST-MODIFIED:20230209T143127Z
UID:5312-1661938200-1661949000@milfordconservation.org
SUMMARY:Volunteer Task
DESCRIPTION:POSTPONED   – Due to the and continuing hot and humid weather. \n\n\n\nFootpath Work – load\, distribute and spread footpath subbase. Access from Gate 21. \n\n\n\n\n\n\n\nDetails of this event are sent to everyone on the volunteer task list. If you would like to join the list please fill in our contact form.  \n\n\n\nTasks are planned with the parish council\, and vary from lighter clearance work e.g. footpaths\, bramble\, rhododendron and hazel coppice\, to heavier work like drainage\, revetment or footpaths. \n\n\n\nVolunteers should wear gloves and sturdy footwear\, safety glasses and  long trousers recommended. With summer coming along sunscreen and insect repellent if you need it and bring your own water/refreshments.
URL:https://milfordconservation.org/event/volunteer-task-5/
CATEGORIES:Tasks,Volunteering
END:VEVENT
BEGIN:VEVENT
DTSTART;TZID=UTC:20220827T113000
DTEND;TZID=UTC:20220827T153000
DTSTAMP:20260425T115518
CREATED:20220814T174132Z
LAST-MODIFIED:20230613T101526Z
UID:5265-1661599800-1661614200@milfordconservation.org
SUMMARY:Bee Fayre 2022
DESCRIPTION:Conservation Connection New Forest are hosting the event on New Milton Recreation Ground  \n\n\n\nBee Fayre – New Milton  \n\n\n\n\n\nConservation Connection New Forest South
URL:https://milfordconservation.org/event/bee-fayre-2022/
LOCATION:New Milton Recreation Ground\, Whitefield Rd\,\, New Milton\, BH25 6DF
END:VEVENT
BEGIN:VEVENT
DTSTART;TZID=UTC:20220820T100000
DTEND;TZID=UTC:20220820T120000
DTSTAMP:20260425T115518
CREATED:20220503T142624Z
LAST-MODIFIED:20220503T142626Z
UID:4415-1660989600-1660996800@milfordconservation.org
SUMMARY:Birding for Beginners
DESCRIPTION:Open mornings are held every 3rd Saturday of the month at Sturt Pond Bird Hide. \n\n\n\nLocal bird experts are available to help identify birds and answer questions. Binoculars and Scopes available. Everyone welcome\, so why not come along and see what’s happening? \n\n\n\nDetails of venue here
URL:https://milfordconservation.org/event/birding-for-beginners-13/
END:VEVENT
BEGIN:VEVENT
DTSTART;TZID=UTC:20220818T093000
DTEND;TZID=UTC:20220818T123000
DTSTAMP:20260425T115518
CREATED:20220819T173501Z
LAST-MODIFIED:20230209T143137Z
UID:5310-1660815000-1660825800@milfordconservation.org
SUMMARY:Volunteer Task
DESCRIPTION:POSTPONED   – Due to the and continuing hot and humid weather. \n\n\n\nFootpath Work – boards and drainage in Pleasure Grounds\, access likely to be from Gate 9. \n\n\n\n\n\n\n\nDetails of this event are sent to everyone on the volunteer task list. If you would like to join the list please fill in our contact form.  \n\n\n\nTasks are planned with the parish council\, and vary from lighter clearance work e.g. footpaths\, bramble\, rhododendron and hazel coppice\, to heavier work like drainage\, revetment or footpaths. \n\n\n\nVolunteers should wear gloves and sturdy footwear\, safety glasses and  long trousers recommended. With summer coming along sunscreen and insect repellent if you need it and bring your own water/refreshments.
URL:https://milfordconservation.org/event/volunteer-task-7/
CATEGORIES:Tasks,Volunteering
END:VEVENT
BEGIN:VEVENT
DTSTART;TZID=UTC:20220806T100000
DTEND;TZID=UTC:20220806T120000
DTSTAMP:20260425T115518
CREATED:20220503T130736Z
LAST-MODIFIED:20220920T170136Z
UID:3540-1659780000-1659787200@milfordconservation.org
SUMMARY:Birding for Beginners
DESCRIPTION:Open mornings are held every 1st Saturday of the month at Keyhaven Bird Observatory.  \n\n\n\nLocal bird experts are available to help identify birds and answer questions. Equipment provided.  \n\n\n\nEveryone welcome\,  so why not come along and see what’s happening? \n\n\n\nDetails of venue here
URL:https://milfordconservation.org/event/birding-for-beginners-2/
LOCATION:KeyHaven Bird Observatory\, Keyhaven
END:VEVENT
BEGIN:VEVENT
DTSTART;TZID=UTC:20220803T093000
DTEND;TZID=UTC:20220803T123000
DTSTAMP:20260425T115518
CREATED:20220819T173356Z
LAST-MODIFIED:20230209T143146Z
UID:5309-1659519000-1659529800@milfordconservation.org
SUMMARY:Volunteer Task
DESCRIPTION:POSTPONED   – Due to the and continuing hot and humid weather. \n\n\n\nFix gravel boards\, lay weed membrane  and spread stone. Adjacent to Sturt Pond Close\, off Keyhaven Road. \n\n\n\n\n\n\n\n\n\nTasks are planned with the parish council\, and vary from lighter clearance work e.g. footpaths\, bramble\, rhododendron and hazel coppice\, to heavier work like drainage\, revetment or footpaths. \n\n\n\nVolunteers should wear gloves and sturdy footwear\, safety glasses and  long trousers recommended. With summer coming along sunscreen and insect repellent if you need it and bring your own water/refreshments.
URL:https://milfordconservation.org/event/volunteer-task-6/
CATEGORIES:Tasks,Volunteering
END:VEVENT
END:VCALENDAR