BEGIN:VCALENDAR
VERSION:2.0
PRODID:-//Milford Conservation Volunteers - ECPv6.15.20//NONSGML v1.0//EN
CALSCALE:GREGORIAN
METHOD:PUBLISH
X-WR-CALNAME:Milford Conservation Volunteers
X-ORIGINAL-URL:https://milfordconservation.org
X-WR-CALDESC:Events for Milford Conservation Volunteers
REFRESH-INTERVAL;VALUE=DURATION:PT1H
X-Robots-Tag:noindex
X-PUBLISHED-TTL:PT1H
BEGIN:VTIMEZONE
TZID:UTC
BEGIN:STANDARD
TZOFFSETFROM:+0000
TZOFFSETTO:+0000
TZNAME:UTC
DTSTART:20240101T000000
END:STANDARD
END:VTIMEZONE
BEGIN:VEVENT
DTSTART;TZID=UTC:20251210T100000
DTEND;TZID=UTC:20251210T130000
DTSTAMP:20260424T164750
CREATED:20250718T113934Z
LAST-MODIFIED:20251206T172756Z
UID:7887-1765360800-1765371600@milfordconservation.org
SUMMARY:Conservation Task
DESCRIPTION:Organiser: Adrian Palmer \n\n\n\nMeeting Point: Milford Bridge (High Street/Park Lane) \n\n\n\nTask:  Tidying pathways in Pleasure Grounds   \n\n\n\nThe focus will be on some of the tasks noted during a walkover in October. We will be working our way through the Pleasure Grounds removing any sapling sycamore\, willow\, bay or rhododendron encountered near the path. We will also check and clean out any nest boxes and also note locations requiring drainage maintenance\, and new/additional timber shuttering in the spring/summer.  Please as always wear appropriate footwear\, it may be wet and slippery in places\, and protective gloves. If you have your own pair of secateurs you can bring along that would be useful. \n\n\n\n\n\n\n\nEvery effort will be made to keep to this date\, but changes can occur due to weather\, logistics\, to suit other involved parties or to avoid conflicting events. Generally an email will be sent to volunteers a week in advance with location and details of the task. It is possible that additional sessions will be added \, including at weekends if there is time critical\, or backlog of tasks to complete. \n\n\n\nIf you would like to join the list please fill in our contact form. \n\n\n\nTasks are generally planned with the parish council\, and wherever possible have a conservation theme. Most tasks are conservation management or maintenance and vary from lighter clearance work e.g. footpaths\, bramble\, rhododendron and hazel coppice\, to heavier work like drainage\, revetment or footpaths. Occasionally we do get opportunities to enhance or even create habitat for flora and fauna.  \n\n\n\nVolunteers should wear gloves and sturdy footwear\, safety glasses and  long trousers recommended. Bring waterproofs\, sunscreen and insect repellent as appropriate and bring your own water/refreshments. \n\n\n	\n		\n			\n				\n					\n						\n	\n	\n\n						\n							Add to calendar						\n						\n	\n\n					\n					\n						\n															\n									\n										Google Calendar									\n								\n															\n									\n										iCalendar									\n								\n															\n									\n										Outlook 365									\n								\n															\n									\n										Outlook Live
URL:https://milfordconservation.org/event/conservation-task-25/
CATEGORIES:Tasks
END:VEVENT
BEGIN:VEVENT
DTSTART;TZID=UTC:20260126T100000
DTEND;TZID=UTC:20260126T120000
DTSTAMP:20260424T164750
CREATED:20250914T161343Z
LAST-MODIFIED:20260117T140011Z
UID:7932-1769421600-1769428800@milfordconservation.org
SUMMARY:Nature Walk
DESCRIPTION:Meeting Point: Milford Pleasure Grounds bridge \n\n\n\nLeader: David Horne \n\n\n\nWe will meet at 10am at the Milford Pleasure Grounds bridge and head up to Studland Common and Sharvells Copse \n\n\n\nThe bridge is located almost opposite Lucerne Road just up from the carpark near the Thai restaurant in the village \n\n\n\nOpen to everyone\, and new members are especially welcome. \n\n\n\nPlease wear  clothing and footwear appropriate for the weather conditions. Bring water and sunscreen as required. \n\n\n\nNote Any changes to the walk details will be published here\, so check back here to confirm. We also try to send an email reminder to members shortly before the walk is due to take place. \n\n\n\nEither fill in the form so that we know to expect you\, or just turn up on the day. \n\n\n\n\n\n\nPlease enable JavaScript in your browser to complete this form.Event *Name *FirstLastEmail *Contact numberComment or Message *Send
URL:https://milfordconservation.org/event/nature-walk-31/
CATEGORIES:Walks
END:VEVENT
BEGIN:VEVENT
DTSTART;TZID=UTC:20260218T100000
DTEND;TZID=UTC:20260218T120000
DTSTAMP:20260424T164750
CREATED:20250914T161333Z
LAST-MODIFIED:20251016T050554Z
UID:7933-1771408800-1771416000@milfordconservation.org
SUMMARY:Nature Walk
DESCRIPTION:Meeting Point: Sturt Pond Bird Hide \n\n\n\nLeader: Gill Watson \n\n\n\n \n\n\n\nOpen to everyone\, and new members are especially welcome. \n\n\n\nPlease wear  clothing and footwear appropriate for the weather conditions. Bring water and sunscreen as required. \n\n\n\nNote Any changes to the walk details will be published here\, so check back here to confirm. We also try to send an email reminder to members shortly before the walk is due to take place. \n\n\n\nEither fill in the form so that we know to expect you\, or just turn up on the day. \n\n\n\n\n\n\nPlease enable JavaScript in your browser to complete this form.Event *Name *FirstLastEmail *Contact numberComment or Message *Send
URL:https://milfordconservation.org/event/nature-walk-30/
CATEGORIES:Walks
END:VEVENT
BEGIN:VEVENT
DTSTART;TZID=UTC:20260317T100000
DTEND;TZID=UTC:20260317T120000
DTSTAMP:20260424T164750
CREATED:20250914T161329Z
LAST-MODIFIED:20250914T161539Z
UID:7934-1773741600-1773748800@milfordconservation.org
SUMMARY:Nature Walk
DESCRIPTION:This is a provisional date for your diary\n\n\n\nMeeting Point:  TBA \n\n\n\nLeader: Gill Watson \n\n\n\n \n\n\n\nOpen to everyone\, and new members are especially welcome. \n\n\n\nPlease wear  clothing and footwear appropriate for the weather conditions. Bring water and sunscreen as required. \n\n\n\nNote Any changes to the walk details will be published here\, so check back here to confirm. We also try to send an email reminder to members shortly before the walk is due to take place. \n\n\n\nEither fill in the form so that we know to expect you\, or just turn up on the day. \n\n\n\n\n\n\nPlease enable JavaScript in your browser to complete this form.Event *Name *FirstLastEmail *Contact numberComment or Message *Send
URL:https://milfordconservation.org/event/nature-walk-29/
CATEGORIES:Walks
END:VEVENT
BEGIN:VEVENT
DTSTART;TZID=UTC:20260416T100000
DTEND;TZID=UTC:20260416T110000
DTSTAMP:20260424T164750
CREATED:20250914T161324Z
LAST-MODIFIED:20260413T180712Z
UID:7935-1776333600-1776337200@milfordconservation.org
SUMMARY:Nature Walk
DESCRIPTION:Meeting Point: bridge/gate into the Danestream on New valley Road (by the dip!)  \n\n\n\nLeader:  Wendy Thomas \n\n\n\nThis walk will be looking at wildflowers along the Danestream \n\n\n\nOpen to everyone\, and new members are especially welcome. \n\n\n\nPlease wear  clothing and footwear appropriate for the weather conditions. Bring water and sunscreen as required. \n\n\n\nNote Any changes to the walk details will be published here\, so check back here to confirm. We also try to send an email reminder to members shortly before the walk is due to take place. \n\n\n\nEither fill in the form so that we know to expect you\, or just turn up on the day. \n\n\n\n\n\n\nPlease enable JavaScript in your browser to complete this form.Event *Name *FirstLastEmail *Contact numberComment or Message *Send
URL:https://milfordconservation.org/event/nature-walk-28/
CATEGORIES:Walks
END:VEVENT
BEGIN:VEVENT
DTSTART;TZID=UTC:20260520T100000
DTEND;TZID=UTC:20260520T120000
DTSTAMP:20260424T164750
CREATED:20250914T161323Z
LAST-MODIFIED:20250914T161603Z
UID:7936-1779271200-1779278400@milfordconservation.org
SUMMARY:Nature Walk
DESCRIPTION:This is a provisional date for your diary\n\n\n\nMeeting Point:  TBA \n\n\n\nLeader: Gill Watson \n\n\n\n \n\n\n\nOpen to everyone\, and new members are especially welcome. \n\n\n\nPlease wear  clothing and footwear appropriate for the weather conditions. Bring water and sunscreen as required. \n\n\n\nNote Any changes to the walk details will be published here\, so check back here to confirm. We also try to send an email reminder to members shortly before the walk is due to take place. \n\n\n\nEither fill in the form so that we know to expect you\, or just turn up on the day. \n\n\n\n\n\n\nPlease enable JavaScript in your browser to complete this form.Event *Name *FirstLastEmail *Contact numberComment or Message *Send
URL:https://milfordconservation.org/event/nature-walk-27/
CATEGORIES:Walks
END:VEVENT
BEGIN:VEVENT
DTSTART;TZID=UTC:20260615T100000
DTEND;TZID=UTC:20260615T120000
DTSTAMP:20260424T164750
CREATED:20250914T161318Z
LAST-MODIFIED:20250914T161620Z
UID:7937-1781517600-1781524800@milfordconservation.org
SUMMARY:Nature Walk
DESCRIPTION:This is a provisional date for your diary\n\n\n\nMeeting Point:  TBA \n\n\n\nLeader: Gill Watson \n\n\n\n \n\n\n\nOpen to everyone\, and new members are especially welcome. \n\n\n\nPlease wear  clothing and footwear appropriate for the weather conditions. Bring water and sunscreen as required. \n\n\n\nNote Any changes to the walk details will be published here\, so check back here to confirm. We also try to send an email reminder to members shortly before the walk is due to take place. \n\n\n\nEither fill in the form so that we know to expect you\, or just turn up on the day. \n\n\n\n\n\n\nPlease enable JavaScript in your browser to complete this form.Event *Name *FirstLastEmail *Contact numberComment or Message *Send
URL:https://milfordconservation.org/event/nature-walk-26/
CATEGORIES:Walks
END:VEVENT
BEGIN:VEVENT
DTSTART;TZID=UTC:20260722T100000
DTEND;TZID=UTC:20260722T120000
DTSTAMP:20260424T164750
CREATED:20250914T161315Z
LAST-MODIFIED:20251016T050941Z
UID:7938-1784714400-1784721600@milfordconservation.org
SUMMARY:Nature Walk
DESCRIPTION:Meeting Point: Studland Common \n\n\n\nLeader: Gill Watson \n\n\n\nOpen to everyone\, and new members are especially welcome. \n\n\n\nPlease wear  clothing and footwear appropriate for the weather conditions. Bring water and sunscreen as required. \n\n\n\nNote Any changes to the walk details will be published here\, so check back here to confirm. We also try to send an email reminder to members shortly before the walk is due to take place. \n\n\n\nEither fill in the form so that we know to expect you\, or just turn up on the day. \n\n\n\n\n\n\nPlease enable JavaScript in your browser to complete this form.Event *Name *FirstLastEmail *Contact numberComment or Message *Send
URL:https://milfordconservation.org/event/nature-walk-25/
CATEGORIES:Walks
END:VEVENT
END:VCALENDAR