BEGIN:VCALENDAR
VERSION:2.0
PRODID:-//Milford Conservation Volunteers - ECPv6.15.20//NONSGML v1.0//EN
CALSCALE:GREGORIAN
METHOD:PUBLISH
X-ORIGINAL-URL:https://milfordconservation.org
X-WR-CALDESC:Events for Milford Conservation Volunteers
REFRESH-INTERVAL;VALUE=DURATION:PT1H
X-Robots-Tag:noindex
X-PUBLISHED-TTL:PT1H
BEGIN:VTIMEZONE
TZID:UTC
BEGIN:STANDARD
TZOFFSETFROM:+0000
TZOFFSETTO:+0000
TZNAME:UTC
DTSTART:20220101T000000
END:STANDARD
END:VTIMEZONE
BEGIN:VEVENT
DTSTART;TZID=UTC:20230707T090000
DTEND;TZID=UTC:20230707T110000
DTSTAMP:20260426T013203
CREATED:20230617T171729Z
LAST-MODIFIED:20230628T131150Z
UID:6397-1688720400-1688727600@milfordconservation.org
SUMMARY:Botanical Nature Walk
DESCRIPTION:Keyhaven \n\n\n\nA second\, leisurely botanical nature walk led by ecologist Lisa Malter where we will be identifying the many plants along the shore from Keyhaven observatory up the coastal path. There are many sea species including a rare samphire. \n\n\n\nMeeting place: Outside Keyhaven Observatory \n\n\n\nThis event is open to anyone \, although if you enjoy it you may want to think of becoming a member. \n\n\n\nNew members are especially welcome. \n\n\n\nEither fill in the form so that we know to expect you\, or just turn up on the day. \n\n\n\n\nPlease enable JavaScript in your browser to complete this form.Event *Name *FirstLastEmail *Contact numberComment or Message *Send
URL:https://milfordconservation.org/event/botany-nature-walk/
CATEGORIES:Flora,Walks
END:VEVENT
BEGIN:VEVENT
DTSTART;TZID=UTC:20230724T100000
DTEND;TZID=UTC:20230724T120000
DTSTAMP:20260426T013203
CREATED:20230125T185127Z
LAST-MODIFIED:20230125T190020Z
UID:5752-1690192800-1690200000@milfordconservation.org
SUMMARY:Nature Walk
DESCRIPTION:Meeting Point:  Hordle Cliff car park by kiosk \n\n\n\nLeader: David Horne \n\n\n\nDavid is Chairman of MCV committee and has a great deal of knowledge on many aspects of the environment.  \n\n\n\nDon’t forget your binoculars if you have them\, as you never know what might turn up! \n\n\n\nNew members are especially welcome. \n\n\n\nEither fill in the form so that we know to expect you\, or just turn up on the day. \n\n\n\n\n\n\nPlease enable JavaScript in your browser to complete this form.Event *Name *FirstLastEmail *Contact numberComment or Message *Send
URL:https://milfordconservation.org/event/5752/
LOCATION:Hordle Cliff
CATEGORIES:Fauna,Walks
END:VEVENT
BEGIN:VEVENT
DTSTART;TZID=UTC:20230727T093000
DTEND;TZID=UTC:20230727T123000
DTSTAMP:20260426T013203
CREATED:20230603T150054Z
LAST-MODIFIED:20230603T150136Z
UID:6216-1690450200-1690461000@milfordconservation.org
SUMMARY:Conservation Task
DESCRIPTION:Details of this event are sent to everyone on the volunteer task list. If you would like to join the list please fill in our contact form.  \n\n\n\nTasks are planned with the parish council\, and vary from lighter clearance work e.g. footpaths\, bramble\, rhododendron and hazel coppice\, to heavier work like drainage\, revetment or footpaths. \n\n\n\nVolunteers should wear gloves and sturdy footwear\, safety glasses and  long trousers recommended. Depending on the season and weather  bring along sunscreen and insect repellent and if you need it\, and bring your own water/refreshments.
URL:https://milfordconservation.org/event/6216/
CATEGORIES:Tasks
END:VEVENT
END:VCALENDAR