BEGIN:VCALENDAR
VERSION:2.0
PRODID:-//Milford Conservation Volunteers - ECPv6.15.20//NONSGML v1.0//EN
CALSCALE:GREGORIAN
METHOD:PUBLISH
X-WR-CALNAME:Milford Conservation Volunteers
X-ORIGINAL-URL:https://milfordconservation.org
X-WR-CALDESC:Events for Milford Conservation Volunteers
REFRESH-INTERVAL;VALUE=DURATION:PT1H
X-Robots-Tag:noindex
X-PUBLISHED-TTL:PT1H
BEGIN:VTIMEZONE
TZID:UTC
BEGIN:STANDARD
TZOFFSETFROM:+0000
TZOFFSETTO:+0000
TZNAME:UTC
DTSTART:20220101T000000
END:STANDARD
END:VTIMEZONE
BEGIN:VEVENT
DTSTART;TZID=UTC:20231104T100000
DTEND;TZID=UTC:20231104T120000
DTSTAMP:20260425T152729
CREATED:20230826T230553Z
LAST-MODIFIED:20230826T231619Z
UID:6627-1699092000-1699099200@milfordconservation.org
SUMMARY:Drop in Birding Session at Keyhaven
DESCRIPTION:This is a drop in birding session open to everyone. It is held on 1st Saturday of every month\, from 10 am – 12 noon\, at Keyhaven Bird Observatory.  \n\n\n\n\n\n\n\n\n\n\nLocal bird experts are available to help identify birds and answer questions.\n\n\n\nScopes and binoculars are available to use. \n\n\n\nEveryone welcome\,  so why not come along and see what’s happening today?\n\n\n\n\n\n\nDetails of venue here \n\n\n\nDrop in at Sturt pond on 3rd Saturday of the month.
URL:https://milfordconservation.org/event/6627/
CATEGORIES:Birds
END:VEVENT
BEGIN:VEVENT
DTSTART;TZID=UTC:20231106T100000
DTEND;TZID=UTC:20231106T120000
DTSTAMP:20260425T152729
CREATED:20231019T165649Z
LAST-MODIFIED:20231021T070401Z
UID:6761-1699264800-1699272000@milfordconservation.org
SUMMARY:Nature Walk
DESCRIPTION:Downton Lakes\n\n\n\n\n\nMeet at the gate in Shorefield Road (turn left at the end of Blackbush Road) where there is limited parking. \n\n\n\nLeader: David Horne \n\n\n\nThis event is open to anyone\, and if you enjoy it you may want to think of becoming a member. \n\n\n\nEither fill in the form below  so that we know to expect you\, or just turn up on the day. \n\n\n\n\nPlease enable JavaScript in your browser to complete this form.Event *Name *FirstLastEmail *Contact numberComment or Message *Send
URL:https://milfordconservation.org/event/nature-walk-9/
CATEGORIES:Walks
END:VEVENT
BEGIN:VEVENT
DTSTART;TZID=UTC:20231107T093000
DTEND;TZID=UTC:20231107T123000
DTSTAMP:20260425T152729
CREATED:20231006T114439Z
LAST-MODIFIED:20231006T163111Z
UID:6659-1699349400-1699360200@milfordconservation.org
SUMMARY:Conservation Task
DESCRIPTION:Organiser: Adrian Palmer \n\n\n\nMeeting Point:   At gate between meadow and Studland Common. Entrance to meadow by Pless Road (Gate 12) opposite Westminster Road. \n\n\n\nTask: Scrub clearance maintenance to areas north/south of footpath from meadow gate to Pleasure Grounds. Tree planting in the Community Orchard. \n\n\n\n\n\n\n\nEvery effort will be made to keep to this date\, but changes can occur due to weather\, logistics\, to suit other involved parties or to avoid conflicting events. Generally an email will be sent to volunteers a week in advance with location and details of the task. It is possible that additional sessions will be added \, including at weekends if there is time critical\, or backlog of tasks to complete. \n\n\n\nIf you would like to join the list please fill in our contact form. \n\n\n\nTasks are generally planned with the parish council\, and wherever possible have a conservation theme. Most tasks are conservation management or maintenance and vary from lighter clearance work e.g. footpaths\, bramble\, rhododendron and hazel coppice\, to heavier work like drainage\, revetment or footpaths. Occasionally we do get opportunities to enhance or even create habitat for flora and fauna.  \n\n\n\nVolunteers should wear gloves and sturdy footwear\, safety glasses and  long trousers recommended. Bring waterproofs\, sunscreen and insect repellent as appropriate and bring your own water/refreshments. \n\n\n	\n		\n			\n				\n					\n						\n	\n	\n\n						\n							Add to calendar						\n						\n	\n\n					\n					\n						\n															\n									\n										Google Calendar									\n								\n															\n									\n										iCalendar									\n								\n															\n									\n										Outlook 365									\n								\n															\n									\n										Outlook Live
URL:https://milfordconservation.org/event/conservation-task-9/
CATEGORIES:Tasks
END:VEVENT
BEGIN:VEVENT
DTSTART;TZID=UTC:20231118T100000
DTEND;TZID=UTC:20231118T120000
DTSTAMP:20260425T152729
CREATED:20230826T231201Z
LAST-MODIFIED:20231006T163057Z
UID:6633-1700301600-1700308800@milfordconservation.org
SUMMARY:Drop in Birding Session at Sturt Pond
DESCRIPTION:This is a drop in birding session open to everyone. It is held on 3rd Saturday of every month\, from 10 am – 12 noon\, at Sturt Pond Bird Hide.  \n\n\n\n\n\n\n\n\n\n\nLocal bird experts are available to help identify birds and answer questions. \n\n\n\nScopes and binoculars are available to use.\n\n\n\nEveryone welcome\,  so why not come along and see what’s happening today?\n\n\n\n\n\n\nDetails of venue here \n\n\n\nDrop in at Keyhaven Observatory on 1st Saturday of the month.
URL:https://milfordconservation.org/event/drop-in-birding-session-at-sturt-pond/
CATEGORIES:Birds
END:VEVENT
BEGIN:VEVENT
DTSTART;TZID=UTC:20231120T090000
DTEND;TZID=UTC:20231120T103000
DTSTAMP:20260425T152729
CREATED:20230628T133859Z
LAST-MODIFIED:20231029T151951Z
UID:6460-1700470800-1700476200@milfordconservation.org
SUMMARY:Creeks & Saltmarsh Boat Trip
DESCRIPTION:SOLD OUT \n\n\n\nThis is  a boat trip around Keyhaven Creeks and Saltmarsh\, led by bird expert\, Keith Metcalf.  \n\n\n\nSpace is limited so pre-booking is essential and payment needs to be received to confirm booking. Booking requests can be made using the form below\, after which you will be contacted by the organiser for payment. \n\n\n\nMeet at Keyhaven Hurst Castle Ferry Pontoon 5 minutes before departure. \n\n\n\nTicket Prices to cover costs only:\n\n\n\nMCV Members  £15 Non-MCV Members £20 \n\n\n\nMore Details \n\n\nTicket Reservation and Enquiries Please enable JavaScript in your browser to complete this form.Event *Date *Friday\, 20th October 2023 (trip 46)Monday 20th November 2023 (trip 47)Monday 4th December 2023 (trip 48)Number of Seats Seats are for: *MembersNon MembersMixed - please enter details in Message Box belowName *FirstLastEmail *Contact number *Comment or MessageSend \n\n\n\n\n\nYouth Birding Trip\n\n\n\nCreeks and Saltmarsh
URL:https://milfordconservation.org/event/6460/
CATEGORIES:Birds,Boat Trips
END:VEVENT
BEGIN:VEVENT
DTSTART;TZID=UTC:20231124T100000
DTEND;TZID=UTC:20231124T120000
DTSTAMP:20260425T152729
CREATED:20230123T171851Z
LAST-MODIFIED:20231006T163043Z
UID:5671-1700820000-1700827200@milfordconservation.org
SUMMARY:Nature Walk
DESCRIPTION:Sturt Pond Bird Hide to The Pans Observatory\n\n\n\nMeeting Point:  Sturt Pond Bird Hide  \n\n\n\nLeader:  Keith Metcalf \n\n\n\nWrap up warm and bring your binoculars as you walk along the seawall from Milford to Keyhaven to see what birds are visiting. \n\n\n\nThis is event is for  members and their guests only unless agreed with organiser.  \n\n\n\nNew members are especially welcome. \n\n\n\nEither fill in the form so that we know to expect you\, or just turn up on the day. \n\n\n\n\n\n\nPlease enable JavaScript in your browser to complete this form.Event *Name *FirstLastEmail *Contact numberComment or Message *Send
URL:https://milfordconservation.org/event/nature-walk-3/
CATEGORIES:Birds,Walks
END:VEVENT
END:VCALENDAR