BEGIN:VCALENDAR
VERSION:2.0
PRODID:-//Milford Conservation Volunteers - ECPv6.15.20//NONSGML v1.0//EN
CALSCALE:GREGORIAN
METHOD:PUBLISH
X-WR-CALNAME:Milford Conservation Volunteers
X-ORIGINAL-URL:https://milfordconservation.org
X-WR-CALDESC:Events for Milford Conservation Volunteers
REFRESH-INTERVAL;VALUE=DURATION:PT1H
X-Robots-Tag:noindex
X-PUBLISHED-TTL:PT1H
BEGIN:VTIMEZONE
TZID:UTC
BEGIN:STANDARD
TZOFFSETFROM:+0000
TZOFFSETTO:+0000
TZNAME:UTC
DTSTART:20220101T000000
END:STANDARD
END:VTIMEZONE
BEGIN:VEVENT
DTSTART;TZID=UTC:20231202T100000
DTEND;TZID=UTC:20231202T120000
DTSTAMP:20260425T134940
CREATED:20230826T230851Z
LAST-MODIFIED:20231006T163027Z
UID:6630-1701511200-1701518400@milfordconservation.org
SUMMARY:Drop in Birding Session at Keyhaven
DESCRIPTION:This is a drop in birding session open to everyone. It is held on 1st Saturday of every month\, from 10 am – 12 noon\, at Keyhaven Bird Observatory.  \n\n\n\n\n\n\n\n\n\n\nLocal bird experts are available to help identify birds and answer questions.\n\n\n\nScopes and binoculars are available to use. \n\n\n\nEveryone welcome\,  so why not come along and see what’s happening today?\n\n\n\n\n\n\nDetails of venue here \n\n\n\nDrop in at Sturt pond on 3rd Saturday of the month.
URL:https://milfordconservation.org/event/6630/
CATEGORIES:Birds
END:VEVENT
BEGIN:VEVENT
DTSTART;TZID=UTC:20231204T090000
DTEND;TZID=UTC:20231204T103000
DTSTAMP:20260425T134940
CREATED:20230628T134120Z
LAST-MODIFIED:20231029T150617Z
UID:6462-1701680400-1701685800@milfordconservation.org
SUMMARY:Creeks & Saltmarsh Boat Trip
DESCRIPTION:This is  a boat trip around Keyhaven Creeks and Saltmarsh\, led by bird expert\, Keith Metcalf.  \n\n\n\nSpace is limited so pre-booking is essential and payment needs to be received to confirm booking. Booking requests can be made using the form below\, after which you will be contacted by the organiser for payment. \n\n\n\nMeet at Keyhaven Hurst Castle Ferry Pontoon 5 minutes before departure. \n\n\n\nTicket Prices to cover costs only:\n\n\n\nMCV Members  £15 Non-MCV Members £20 \n\n\n\nMore Details \n\n\nPlease enable JavaScript in your browser to complete this form.Event *Date *Monday 4th December 2023 (trip 48)Thursday\, 4th January 2024 (trip 49)Saturday 4th February 2024 (trip 50)Monday 15th February 2024 (trip 51)Monday 4th March 2024 (trip 52)Number of Seats Seats are for: *MembersNon MembersMixed - please enter details in Message Box belowName *FirstLastEmail *Contact number *Comment or MessageSend  \n\n\n\n\n\nYouth Birding Trip\n\n\n\nCreeks and Saltmarsh
URL:https://milfordconservation.org/event/6462/
CATEGORIES:Birds,Boat Trips
END:VEVENT
BEGIN:VEVENT
DTSTART;TZID=UTC:20231213T093000
DTEND;TZID=UTC:20231213T123000
DTSTAMP:20260425T134940
CREATED:20231006T161747Z
LAST-MODIFIED:20231205T121455Z
UID:6678-1702459800-1702470600@milfordconservation.org
SUMMARY:Conservation Task
DESCRIPTION:THIS EVENT HAS BEEN CHANGED FROM DECEMBER 12TH DUE TO AVAILABILITY OF PARISH COUNCIL STAFF\n\n\n\nOrganiser: Adrian Palmer \n\n\n\nMeeting Point:  Community Orchard \n\n\n\nTask:   Cutting the perimeter hedge and clearance within the orchard.  \n\n\n\nAny questions contact Adrian directly or via  our contact form.  \n\n\n\n\n\n\n\nEvery effort will be made to keep to this date\, but changes can occur due to weather\, logistics\, to suit other involved parties or to avoid conflicting events. Generally an email will be sent to volunteers a week in advance with location and details of the task. It is possible that additional sessions will be added \, including at weekends if there is time critical\, or backlog of tasks to complete. \n\n\n\nIf you would like to join the list please fill in our contact form. \n\n\n\nTasks are generally planned with the parish council\, and wherever possible have a conservation theme. Most tasks are conservation management or maintenance and vary from lighter clearance work e.g. footpaths\, bramble\, rhododendron and hazel coppice\, to heavier work like drainage\, revetment or footpaths. Occasionally we do get opportunities to enhance or even create habitat for flora and fauna.  \n\n\n\nVolunteers should wear gloves and sturdy footwear\, safety glasses and  long trousers recommended. Bring waterproofs\, sunscreen and insect repellent as appropriate and bring your own water/refreshments. \n\n\n	\n		\n			\n				\n					\n						\n	\n	\n\n						\n							Add to calendar						\n						\n	\n\n					\n					\n						\n															\n									\n										Google Calendar									\n								\n															\n									\n										iCalendar									\n								\n															\n									\n										Outlook 365									\n								\n															\n									\n										Outlook Live
URL:https://milfordconservation.org/event/conservation-task-14/
CATEGORIES:Tasks
END:VEVENT
BEGIN:VEVENT
DTSTART;TZID=UTC:20231216T100000
DTEND;TZID=UTC:20231216T120000
DTSTAMP:20260425T134940
CREATED:20230826T232406Z
LAST-MODIFIED:20231205T144825Z
UID:6647-1702720800-1702728000@milfordconservation.org
SUMMARY:Drop in Birding Session at Sturt Pond
DESCRIPTION:This is a drop in birding session open to everyone. It is held on 3rd Saturday of every month\, from 10 am – 12 noon\, at Sturt Pond Bird Hide.  \n\n\n\n\n\n\n\n\n\n\nLocal bird experts are available to help identify birds and answer questions. \n\n\n\nScopes and binoculars are available to use.\n\n\n\nEveryone welcome\,  so why not come along and see what’s happening today?\n\n\n\n\n\n\nDetails of venue here \n\n\n\nYou may also like to Drop In at Keyhaven Observatory on 1st Saturday of the month.
URL:https://milfordconservation.org/event/drop-in-birding-session-at-sturt-pond-3/
CATEGORIES:Birds
END:VEVENT
BEGIN:VEVENT
DTSTART;TZID=UTC:20231228T100000
DTEND;TZID=UTC:20231228T120000
DTSTAMP:20260425T134940
CREATED:20231019T170221Z
LAST-MODIFIED:20231019T171931Z
UID:6768-1703757600-1703764800@milfordconservation.org
SUMMARY:Nature Walk
DESCRIPTION:Lower Pleasure Grounds \n\n\n\n\n\nMeeting place: Old Bridge\, opposite Lucerne Road\n\n\n\nLeader: David Horne \n\n\n\nThis event is open to anyone\, and if you enjoy it you may want to think of becoming a member. \n\n\n\nEither fill in the form below  so that we know to expect you\, or just turn up on the day. \n\n\n\n\nPlease enable JavaScript in your browser to complete this form.Event *Name *FirstLastEmail *Contact numberComment or Message *Send
URL:https://milfordconservation.org/event/nature-walk-10/
CATEGORIES:Walks
END:VEVENT
END:VCALENDAR