BEGIN:VCALENDAR
VERSION:2.0
PRODID:-//Milford Conservation Volunteers - ECPv6.15.20//NONSGML v1.0//EN
CALSCALE:GREGORIAN
METHOD:PUBLISH
X-ORIGINAL-URL:https://milfordconservation.org
X-WR-CALDESC:Events for Milford Conservation Volunteers
REFRESH-INTERVAL;VALUE=DURATION:PT1H
X-Robots-Tag:noindex
X-PUBLISHED-TTL:PT1H
BEGIN:VTIMEZONE
TZID:UTC
BEGIN:STANDARD
TZOFFSETFROM:+0000
TZOFFSETTO:+0000
TZNAME:UTC
DTSTART:20230101T000000
END:STANDARD
END:VTIMEZONE
BEGIN:VEVENT
DTSTART;TZID=UTC:20240706T100000
DTEND;TZID=UTC:20240706T120000
DTSTAMP:20260425T015809
CREATED:20231206T143012Z
LAST-MODIFIED:20231206T143013Z
UID:6965-1720260000-1720267200@milfordconservation.org
SUMMARY:Drop in Birding Session at Keyhaven
DESCRIPTION:Drop in Birding Session at Keyhaven \n\n\n\nThis is a drop in birding session open to everyone. It is held on 1st Saturday of every month\, from 10 am – 12 noon\, at Keyhaven Bird Observatory.  \n\n\n\n\n\n\n\n\n\n\nLocal bird experts are available to help identify birds and answer questions.\n\n\n\nScopes and binoculars are available to use. \n\n\n\nEveryone welcome\,  so why not come along and see what’s happening today?\n\n\n\n\n\n\nDetails of venue here \n\n\n\nYou may also like to Drop In at Sturt pond on 3rd Saturday of the month.
URL:https://milfordconservation.org/event/drop-in-birding-session-at-keyhaven-9/
CATEGORIES:Birds
END:VEVENT
BEGIN:VEVENT
DTSTART;TZID=UTC:20240717T103000
DTEND;TZID=UTC:20240717T123000
DTSTAMP:20260425T015809
CREATED:20240221T133123Z
LAST-MODIFIED:20240712T113019Z
UID:7069-1721212200-1721219400@milfordconservation.org
SUMMARY:Nature Walk
DESCRIPTION:Butterflies on Studland Common\n\n\n\n\n\n\n\nMeeting Point: Gate 12 Pless Road\, opposite Westminster Road \n\n\n\nLeader:  Tani Read \n\n\n\nTani is responsible for the butterfly transect at Studland Common that feeds into the Butterfly Conservation records.  She will be recording butterflies along the way so if the weather conditions are not right\, it will be postponed.  \n\n\n\nEvery one welcome especially new members. \n\n\n\nNote Any changes to the walk details will be published here\, so check back here to confirm. We also try to send an email reminder to members shortly before the walk is due to take place. \n\n\n\nEither fill in the form so that we know to expect you\, or just turn up on the day. \n\n\n\n\n\n\nPlease enable JavaScript in your browser to complete this form.Event *Name *FirstLastEmail *Contact numberComment or Message *Send
URL:https://milfordconservation.org/event/nature-walk-15/
CATEGORIES:butterflies,Walks
END:VEVENT
BEGIN:VEVENT
DTSTART;TZID=UTC:20240720T100000
DTEND;TZID=UTC:20240720T120000
DTSTAMP:20260425T015809
CREATED:20231205T145648Z
LAST-MODIFIED:20231205T145650Z
UID:6945-1721469600-1721476800@milfordconservation.org
SUMMARY:Drop in Birding Session at Sturt Pond
DESCRIPTION:This is a drop in birding session open to everyone. It is held on 3rd Saturday of every month\, from 10 am – 12 noon\, at Sturt Pond Bird Hide.  \n\n\n\n\n\n\n\n\n\n\nLocal bird experts are available to help identify birds and answer questions. \n\n\n\nScopes and binoculars are available to use.\n\n\n\nEveryone welcome\,  so why not come along and see what’s happening today?\n\n\n\n\n\n\nDetails of venue here \n\n\n\nYou may also like to Drop In at Keyhaven Observatory on 1st Saturday of the month.
URL:https://milfordconservation.org/event/drop-in-birding-session-at-sturt-pond-9/
CATEGORIES:Birds
END:VEVENT
END:VCALENDAR