BEGIN:VCALENDAR
VERSION:2.0
PRODID:-//Milford Conservation Volunteers - ECPv6.15.20//NONSGML v1.0//EN
CALSCALE:GREGORIAN
METHOD:PUBLISH
X-ORIGINAL-URL:https://milfordconservation.org
X-WR-CALDESC:Events for Milford Conservation Volunteers
REFRESH-INTERVAL;VALUE=DURATION:PT1H
X-Robots-Tag:noindex
X-PUBLISHED-TTL:PT1H
BEGIN:VTIMEZONE
TZID:UTC
BEGIN:STANDARD
TZOFFSETFROM:+0000
TZOFFSETTO:+0000
TZNAME:UTC
DTSTART:20240101T000000
END:STANDARD
END:VTIMEZONE
BEGIN:VEVENT
DTSTART;TZID=UTC:20250104T100000
DTEND;TZID=UTC:20250104T120000
DTSTAMP:20260424T154646
CREATED:20250201T172350Z
LAST-MODIFIED:20250201T172353Z
UID:7765-1735984800-1735992000@milfordconservation.org
SUMMARY:Drop in Birding Session at Keyhaven
DESCRIPTION:Drop in Birding Session at Keyhaven \n\n\n\nThis is a drop in birding session open to everyone. It is held on 1st Saturday of every month\, from 10 am – 12 noon\, at Keyhaven Bird Observatory.  \n\n\n\n\n\n\n\n\n\n\nLocal bird experts are available to help identify birds and answer questions.\n\n\n\nScopes and binoculars are available to use. \n\n\n\nEveryone welcome\,  so why not come along and see what’s happening today?\n\n\n\n\n\n\nDetails of venue here \n\n\n\nYou may also like to Drop In at Sturt pond on 3rd Saturday of the month.
URL:https://milfordconservation.org/event/drop-in-birding-session-at-keyhaven-25/
CATEGORIES:Birds,Drop In Birding Sessions
END:VEVENT
BEGIN:VEVENT
DTSTART;TZID=UTC:20250116T100000
DTEND;TZID=UTC:20250116T130000
DTSTAMP:20260424T154646
CREATED:20241206T152516Z
LAST-MODIFIED:20250109T183935Z
UID:7680-1737021600-1737032400@milfordconservation.org
SUMMARY:Conservation Task
DESCRIPTION:Organiser: Adrian Palmer \n\n\n\nMeeting Point: Community Orchard \n\n\n\nTask: For this session we return to the Community Orchard where we will meet as normal at around 10am\, weather permitting. Tasks will include maintenance of the perimeter hedges of the existing orchard\, cutting back etc.\, as well as further works in the area prepared in October and November for extending the orchard\, prior to planting new trees next month. This will include more work to the hedging and levelling out some of the ‘mounds’ in that area. Again\, volunteers will be able participate at their own level of comfort. Please do not forget as always protective gloves\, suitable footwear and drinks \n\n\n\n \n\n\n\n\n\n\n\nEvery effort will be made to keep to this date\, but changes can occur due to weather\, logistics\, to suit other involved parties or to avoid conflicting events. Generally an email will be sent to volunteers a week in advance with location and details of the task. It is possible that additional sessions will be added \, including at weekends if there is time critical\, or backlog of tasks to complete. \n\n\n\nIf you would like to join the list please fill in our contact form. \n\n\n\nTasks are generally planned with the parish council\, and wherever possible have a conservation theme. Most tasks are conservation management or maintenance and vary from lighter clearance work e.g. footpaths\, bramble\, rhododendron and hazel coppice\, to heavier work like drainage\, revetment or footpaths. Occasionally we do get opportunities to enhance or even create habitat for flora and fauna.  \n\n\n\nVolunteers should wear gloves and sturdy footwear\, safety glasses and  long trousers recommended. Bring waterproofs\, sunscreen and insect repellent as appropriate and bring your own water/refreshments. \n\n\n	\n		\n			\n				\n					\n						\n	\n	\n\n						\n							Add to calendar						\n						\n	\n\n					\n					\n						\n															\n									\n										Google Calendar									\n								\n															\n									\n										iCalendar									\n								\n															\n									\n										Outlook 365									\n								\n															\n									\n										Outlook Live
URL:https://milfordconservation.org/event/conservation-task-19/
CATEGORIES:Tasks
END:VEVENT
BEGIN:VEVENT
DTSTART;TZID=UTC:20250118T100000
DTEND;TZID=UTC:20250118T120000
DTSTAMP:20260424T154646
CREATED:20250201T162828Z
LAST-MODIFIED:20250201T163434Z
UID:7737-1737194400-1737201600@milfordconservation.org
SUMMARY:Drop in Birding Session at Sturt Pond
DESCRIPTION:This is a drop in birding session open to everyone. It is held on 3rd Saturday of every month\, from 10 am – 12 noon\, at Sturt Pond Bird Hide.  \n\n\n\n\n\n\n\n\n\n\nLocal bird experts are available to help identify birds and answer questions. \n\n\n\nScopes and binoculars are available to use.\n\n\n\nEveryone welcome\,  so why not come along and see what’s happening today?\n\n\n\n\n\n\nDetails of venue here \n\n\n\nYou may also like to Drop In at Keyhaven Observatory on 1st Saturday of the month.
URL:https://milfordconservation.org/event/drop-in-birding-session-at-sturt-pond-15/
CATEGORIES:Birds,Drop In Birding Sessions
END:VEVENT
BEGIN:VEVENT
DTSTART;TZID=UTC:20250122T090000
DTEND;TZID=UTC:20250122T103000
DTSTAMP:20260424T154646
CREATED:20241005T111337Z
LAST-MODIFIED:20241016T103013Z
UID:7575-1737536400-1737541800@milfordconservation.org
SUMMARY:Creeks and Saltmarsh Boat Trip
DESCRIPTION:SOLD OUT \n\n\n\n\n\nThis is  a boat trip around Keyhaven Creeks and Saltmarsh\, led by bird expert\, Keith Metcalf.  \n\n\n\nSpace is limited so pre-booking is essential and payment needs to be received to confirm booking. Booking requests can be made using the form below\, after which you will be contacted by the organiser for payment. \n\n\n\nMeet at Keyhaven Hurst Castle Ferry Pontoon 5 minutes before departure. \n\n\n\nTicket Prices to cover costs only:\n\n\n\nMCV Members  £15 Non-MCV Members £20 \n\n\n\nMore Details \n\n\n\n \n\n\nPlease enable JavaScript in your browser to complete this form.Event *Date *Wednesday 22nd January 2025 (trip 56)Tuesday 18th February 2025 (trip 57)Friday 21st March 2025 (trip 58)Number of Seats Seats are for: *MembersNon MembersMixed - please enter details in Message Box belowName *FirstLastEmail *Contact number *Comment or MessageSend  \n\n\n\n\n\nYouth Birding Trip
URL:https://milfordconservation.org/event/creeks-and-saltmarsh-boat-trip-13/
CATEGORIES:Boat Trips
END:VEVENT
BEGIN:VEVENT
DTSTART;TZID=UTC:20250122T100000
DTEND;TZID=UTC:20250122T120000
DTSTAMP:20260424T154646
CREATED:20240920T163856Z
LAST-MODIFIED:20240920T172354Z
UID:7520-1737540000-1737547200@milfordconservation.org
SUMMARY:Nature Walk
DESCRIPTION:Birds at Normandy Marsh\n\n\n\nMeeting Point: Maiden Lane\, Lymington or the Bridge Car Park by 9:40 for car sharing. \n\n\n\nLeader: Julie Hallows \n\n\n\nJanuary can be quite cold and windy\, but Normandy lagoon is  a bit sheltered within the salterns.  \n\n\n\nDon’t forget your binoculars if you have them\, as you never know what might turn up!  \n\n\n\nOpen to everyone\, and new members are especially welcome. \n\n\n\nPlease wear  clothing and footwear appropriate for the weather conditions. Bring water and sunscreen as required. \n\n\n\nNote Any changes to the walk details will be published here\, so check back here to confirm. We also try to send an email reminder to members shortly before the walk date. \n\n\n\nEither fill in the form so that we know to expect you\, or just turn up on the day. \n\n\n\n\n\n\n\nPlease complete form if you need a lift or can help with car sharing. \n\n\nPlease enable JavaScript in your browser to complete this form.Event *Name *FirstLastEmail *Contact numberComment or Message *Send
URL:https://milfordconservation.org/event/nature-walk-23/
CATEGORIES:Walks
END:VEVENT
END:VCALENDAR