BEGIN:VCALENDAR
VERSION:2.0
PRODID:-//Milford Conservation Volunteers - ECPv6.15.20//NONSGML v1.0//EN
CALSCALE:GREGORIAN
METHOD:PUBLISH
X-ORIGINAL-URL:https://milfordconservation.org
X-WR-CALDESC:Events for Milford Conservation Volunteers
REFRESH-INTERVAL;VALUE=DURATION:PT1H
X-Robots-Tag:noindex
X-PUBLISHED-TTL:PT1H
BEGIN:VTIMEZONE
TZID:UTC
BEGIN:STANDARD
TZOFFSETFROM:+0000
TZOFFSETTO:+0000
TZNAME:UTC
DTSTART:20240101T000000
END:STANDARD
END:VTIMEZONE
BEGIN:VEVENT
DTSTART;TZID=UTC:20250122T100000
DTEND;TZID=UTC:20250122T120000
DTSTAMP:20260424T163436
CREATED:20240920T163856Z
LAST-MODIFIED:20240920T172354Z
UID:7520-1737540000-1737547200@milfordconservation.org
SUMMARY:Nature Walk
DESCRIPTION:Birds at Normandy Marsh\n\n\n\nMeeting Point: Maiden Lane\, Lymington or the Bridge Car Park by 9:40 for car sharing. \n\n\n\nLeader: Julie Hallows \n\n\n\nJanuary can be quite cold and windy\, but Normandy lagoon is  a bit sheltered within the salterns.  \n\n\n\nDon’t forget your binoculars if you have them\, as you never know what might turn up!  \n\n\n\nOpen to everyone\, and new members are especially welcome. \n\n\n\nPlease wear  clothing and footwear appropriate for the weather conditions. Bring water and sunscreen as required. \n\n\n\nNote Any changes to the walk details will be published here\, so check back here to confirm. We also try to send an email reminder to members shortly before the walk date. \n\n\n\nEither fill in the form so that we know to expect you\, or just turn up on the day. \n\n\n\n\n\n\n\nPlease complete form if you need a lift or can help with car sharing. \n\n\nPlease enable JavaScript in your browser to complete this form.Event *Name *FirstLastEmail *Contact numberComment or Message *Send
URL:https://milfordconservation.org/event/nature-walk-23/
CATEGORIES:Walks
END:VEVENT
END:VCALENDAR