BEGIN:VCALENDAR
VERSION:2.0
PRODID:-//Milford Conservation Volunteers - ECPv6.15.20//NONSGML v1.0//EN
CALSCALE:GREGORIAN
METHOD:PUBLISH
X-WR-CALNAME:Milford Conservation Volunteers
X-ORIGINAL-URL:https://milfordconservation.org
X-WR-CALDESC:Events for Milford Conservation Volunteers
REFRESH-INTERVAL;VALUE=DURATION:PT1H
X-Robots-Tag:noindex
X-PUBLISHED-TTL:PT1H
BEGIN:VTIMEZONE
TZID:UTC
BEGIN:STANDARD
TZOFFSETFROM:+0000
TZOFFSETTO:+0000
TZNAME:UTC
DTSTART:20240101T000000
END:STANDARD
END:VTIMEZONE
BEGIN:VEVENT
DTSTART;TZID=UTC:20250201T100000
DTEND;TZID=UTC:20250201T120000
DTSTAMP:20260424T135943
CREATED:20250201T172317Z
LAST-MODIFIED:20250201T172319Z
UID:7766-1738404000-1738411200@milfordconservation.org
SUMMARY:Drop in Birding Session at Keyhaven
DESCRIPTION:Drop in Birding Session at Keyhaven \n\n\n\nThis is a drop in birding session open to everyone. It is held on 1st Saturday of every month\, from 10 am – 12 noon\, at Keyhaven Bird Observatory.  \n\n\n\n\n\n\n\n\n\n\nLocal bird experts are available to help identify birds and answer questions.\n\n\n\nScopes and binoculars are available to use. \n\n\n\nEveryone welcome\,  so why not come along and see what’s happening today?\n\n\n\n\n\n\nDetails of venue here \n\n\n\nYou may also like to Drop In at Sturt pond on 3rd Saturday of the month. \n\n\n\n\nDrop in Birding Session at Keyhaven
URL:https://milfordconservation.org/event/drop-in-birding-session-at-keyhaven-24/
CATEGORIES:Birds,Drop In Birding Sessions
END:VEVENT
BEGIN:VEVENT
DTSTART;TZID=UTC:20250205T100000
DTEND;TZID=UTC:20250205T130000
DTSTAMP:20260424T135943
CREATED:20241206T153026Z
LAST-MODIFIED:20250131T130331Z
UID:7683-1738749600-1738760400@milfordconservation.org
SUMMARY:Conservation Task
DESCRIPTION:Organiser: Adrian Palmer \n\n\n\nMeeting Point: Community Orchard \n\n\n\nTask:  Stump removal\, Tree planting and clearance \n\n\n\nIncluding: \n\n\n\n\nRemoving 2 or 3 stumps still protruding above ground level following our previous clearance sessions\n\n\n\nAssisting with the planting of 6 or 7 fruit trees in the extended orchard. I understand that some of the tree sponsors will also be in attendance.\n\n\n\nClearance of unwanted growth around the base of existing trees and surrounding in bark.\n\n\n\n\nIf we have sufficient volunteers (and time) it is planned to install a more weather resilient path from the Pleasure Grounds onto the Common in the vicinity of the ‘Milford spring’. The work planned for next week will be the installation of timber edging boards for the path. No moving or laying of scalpings!  \n\n\n\nI think we have a range of tasks that should enable volunteers to participate at their own level of comfort. Please do not forget as always protective gloves\, footwear and drinks.  \n\n\n\n\n\n\n\nEvery effort will be made to keep to this date\, but changes can occur due to weather\, logistics\, to suit other involved parties or to avoid conflicting events. Generally an email will be sent to volunteers a week in advance with location and details of the task. It is possible that additional sessions will be added \, including at weekends if there is time critical\, or backlog of tasks to complete. \n\n\n\nIf you would like to join the list please fill in our contact form. \n\n\n\nTasks are generally planned with the parish council\, and wherever possible have a conservation theme. Most tasks are conservation management or maintenance and vary from lighter clearance work e.g. footpaths\, bramble\, rhododendron and hazel coppice\, to heavier work like drainage\, revetment or footpaths. Occasionally we do get opportunities to enhance or even create habitat for flora and fauna.  \n\n\n\nVolunteers should wear gloves and sturdy footwear\, safety glasses and  long trousers recommended. Bring waterproofs\, sunscreen and insect repellent as appropriate and bring your own water/refreshments. \n\n\n	\n		\n			\n				\n					\n						\n	\n	\n\n						\n							Add to calendar						\n						\n	\n\n					\n					\n						\n															\n									\n										Google Calendar									\n								\n															\n									\n										iCalendar									\n								\n															\n									\n										Outlook 365									\n								\n															\n									\n										Outlook Live
URL:https://milfordconservation.org/event/conservation-task-20/
CATEGORIES:Tasks
END:VEVENT
BEGIN:VEVENT
DTSTART;TZID=UTC:20250215T100000
DTEND;TZID=UTC:20250215T120000
DTSTAMP:20260424T135943
CREATED:20250201T163350Z
LAST-MODIFIED:20250201T163421Z
UID:7741-1739613600-1739620800@milfordconservation.org
SUMMARY:Drop in Birding Session at Sturt Pond
DESCRIPTION:This is a drop in birding session open to everyone. It is held on 3rd Saturday of every month\, from 10 am – 12 noon\, at Sturt Pond Bird Hide.  \n\n\n\n\n\n\n\n\n\n\nLocal bird experts are available to help identify birds and answer questions. \n\n\n\nScopes and binoculars are available to use.\n\n\n\nEveryone welcome\,  so why not come along and see what’s happening today?\n\n\n\n\n\n\nDetails of venue here \n\n\n\nYou may also like to Drop In at Keyhaven Observatory on 1st Saturday of the month.
URL:https://milfordconservation.org/event/drop-in-birding-session-at-sturt-pond-16/
CATEGORIES:Birds,Drop In Birding Sessions
END:VEVENT
BEGIN:VEVENT
DTSTART;TZID=UTC:20250218T090000
DTEND;TZID=UTC:20250218T103000
DTSTAMP:20260424T135943
CREATED:20241005T111334Z
LAST-MODIFIED:20241016T103114Z
UID:7576-1739869200-1739874600@milfordconservation.org
SUMMARY:Creeks and Saltmarsh Boat Trip
DESCRIPTION:SOLD OUT \n\n\n\n\n\nThis is  a boat trip around Keyhaven Creeks and Saltmarsh\, led by bird expert\, Keith Metcalf.  \n\n\n\nSpace is limited so pre-booking is essential and payment needs to be received to confirm booking. Booking requests can be made using the form below\, after which you will be contacted by the organiser for payment. \n\n\n\nMeet at Keyhaven Hurst Castle Ferry Pontoon 5 minutes before departure. \n\n\n\nTicket Prices to cover costs only:\n\n\n\nMCV Members  £15 Non-MCV Members £20 \n\n\n\nMore Details \n\n\n\n \n\n\nPlease enable JavaScript in your browser to complete this form.Event *Date *Wednesday 22nd January 2025 (trip 56)Tuesday 18th February 2025 (trip 57)Friday 21st March 2025 (trip 58)Number of Seats Seats are for: *MembersNon MembersMixed - please enter details in Message Box belowName *FirstLastEmail *Contact number *Comment or MessageSend  \n\n\n\n\n\nYouth Birding Trip
URL:https://milfordconservation.org/event/creeks-and-saltmarsh-boat-trip-12/
CATEGORIES:Boat Trips
END:VEVENT
BEGIN:VEVENT
DTSTART;TZID=UTC:20250218T100000
DTEND;TZID=UTC:20250218T120000
DTSTAMP:20260424T135943
CREATED:20240920T141257Z
LAST-MODIFIED:20240920T172910Z
UID:7451-1739872800-1739880000@milfordconservation.org
SUMMARY:Nature Walk
DESCRIPTION:Studland Common\n\n\n\nMeeting Point: Gate 12 Pless Road\, opposite Westminster Road \n\n\n\nLeader: David Horne \n\n\n\nOpen to everyone\, and new members are especially welcome. \n\n\n\nNote Any changes to the walk details will be published here\, so check back here to confirm. We also try to send an email reminder to members shortly before the walk is due to take place. \n\n\n\nEither fill in the form so that we know to expect you\, or just turn up on the day. \n\n\n\n\n\n\nPlease enable JavaScript in your browser to complete this form.Event *Name *FirstLastEmail *Contact numberComment or Message *Send
URL:https://milfordconservation.org/event/nature-walk-19/
CATEGORIES:Walks
END:VEVENT
END:VCALENDAR