BEGIN:VCALENDAR
VERSION:2.0
PRODID:-//Milford Conservation Volunteers - ECPv6.15.20//NONSGML v1.0//EN
CALSCALE:GREGORIAN
METHOD:PUBLISH
X-WR-CALNAME:Milford Conservation Volunteers
X-ORIGINAL-URL:https://milfordconservation.org
X-WR-CALDESC:Events for Milford Conservation Volunteers
REFRESH-INTERVAL;VALUE=DURATION:PT1H
X-Robots-Tag:noindex
X-PUBLISHED-TTL:PT1H
BEGIN:VTIMEZONE
TZID:UTC
BEGIN:STANDARD
TZOFFSETFROM:+0000
TZOFFSETTO:+0000
TZNAME:UTC
DTSTART:20240101T000000
END:STANDARD
END:VTIMEZONE
BEGIN:VEVENT
DTSTART;TZID=UTC:20250301T100000
DTEND;TZID=UTC:20250301T120000
DTSTAMP:20260424T121353
CREATED:20250201T172301Z
LAST-MODIFIED:20250201T172304Z
UID:7767-1740823200-1740830400@milfordconservation.org
SUMMARY:Drop in Birding Session at Keyhaven
DESCRIPTION:Drop in Birding Session at Keyhaven \n\n\n\nThis is a drop in birding session open to everyone. It is held on 1st Saturday of every month\, from 10 am – 12 noon\, at Keyhaven Bird Observatory.  \n\n\n\n\n\n\n\n\n\n\nLocal bird experts are available to help identify birds and answer questions.\n\n\n\nScopes and binoculars are available to use. \n\n\n\nEveryone welcome\,  so why not come along and see what’s happening today?\n\n\n\n\n\n\nDetails of venue here \n\n\n\nYou may also like to Drop In at Sturt pond on 3rd Saturday of the month.
URL:https://milfordconservation.org/event/drop-in-birding-session-at-keyhaven-23/
CATEGORIES:Birds,Drop In Birding Sessions
END:VEVENT
BEGIN:VEVENT
DTSTART;TZID=UTC:20250315T100000
DTEND;TZID=UTC:20250315T120000
DTSTAMP:20260424T121353
CREATED:20250201T163624Z
LAST-MODIFIED:20250201T163625Z
UID:7743-1742032800-1742040000@milfordconservation.org
SUMMARY:Drop in Birding Session at Sturt Pond
DESCRIPTION:This is a drop in birding session open to everyone. It is held on 3rd Saturday of every month\, from 10 am – 12 noon\, at Sturt Pond Bird Hide.  \n\n\n\n\n\n\n\n\n\n\nLocal bird experts are available to help identify birds and answer questions. \n\n\n\nScopes and binoculars are available to use.\n\n\n\nEveryone welcome\,  so why not come along and see what’s happening today?\n\n\n\n\n\n\nDetails of venue here \n\n\n\nYou may also like to Drop In at Keyhaven Observatory on 1st Saturday of the month.
URL:https://milfordconservation.org/event/drop-in-birding-session-at-sturt-pond-17/
CATEGORIES:Birds,Drop In Birding Sessions
END:VEVENT
BEGIN:VEVENT
DTSTART;TZID=UTC:20250321T090000
DTEND;TZID=UTC:20250321T113000
DTSTAMP:20260424T121353
CREATED:20241130T104450Z
LAST-MODIFIED:20241130T113414Z
UID:7642-1742547600-1742556600@milfordconservation.org
SUMMARY:Creeks and Saltmarsh Boat Trip
DESCRIPTION:This is  a boat trip around Keyhaven Creeks and Saltmarsh\, led by bird expert\, Keith Metcalf.  \n\n\n\nSpace is limited so pre-booking is essential and payment needs to be received to confirm booking. Booking requests can be made using the form below\, after which you will be contacted by the organiser for payment. \n\n\n\nMeet at Keyhaven Hurst Castle Ferry Pontoon 5 minutes before departure. \n\n\n\nTicket Prices to cover costs only:\n\n\n\nMCV Members  £15 Non-MCV Members £20 \n\n\n\nMore Details \n\n\nPlease enable JavaScript in your browser to complete this form.Event *Date *Wednesday 22nd January 2025 (trip 56)Tuesday 18th February 2025 (trip 57)Friday 21st March 2025 (trip 58)Number of Seats Seats are for: *MembersNon MembersMixed - please enter details in Message Box belowName *FirstLastEmail *Contact number *Comment or MessageSend  \n\n\n\n\n\nYouth Birding Trip\n\n\n2025-POSTER-CREEKS-and-SALTMARSH-EXTRA-WINTER-TRIP-2025-58
URL:https://milfordconservation.org/event/7642/
CATEGORIES:Birds,Boat Trips
END:VEVENT
BEGIN:VEVENT
DTSTART;TZID=UTC:20250327T100000
DTEND;TZID=UTC:20250327T120000
DTSTAMP:20260424T121353
CREATED:20240920T141550Z
LAST-MODIFIED:20250304T192502Z
UID:7456-1743069600-1743076800@milfordconservation.org
SUMMARY:Nature Walk
DESCRIPTION:Note: Change of Venue\n\n\n\n\n\n\n\nBirds at Normandy Marsh\n\n\n\nMeeting Point: Maiden Lane\, Lymington at 10:00 or the Bridge Car Park by 9:40 for car sharing. \n\n\n\nLeader: Gill Watson \n\n\n\nDon’t forget your binoculars if you have them\, as you never know what might turn up! \n\n\n\nOpen to everyone\, and new members are especially welcome. \n\n\n\nPlease wear  clothing and footwear appropriate for the weather conditions. Bring water and sunscreen as required. \n\n\n\nNote Any changes to the walk details will be published here\, so check back here to confirm. We also try to send an email reminder to members shortly before the walk is due to take place. \n\n\n\nEither fill in the form so that we know to expect you\, or just turn up on the day. \n\n\n\n\n\n\nPlease enable JavaScript in your browser to complete this form.Event *Name *FirstLastEmail *Contact numberComment or Message *Send
URL:https://milfordconservation.org/event/7456/
CATEGORIES:Walks
END:VEVENT
END:VCALENDAR