BEGIN:VCALENDAR
VERSION:2.0
PRODID:-//Milford Conservation Volunteers - ECPv6.15.20//NONSGML v1.0//EN
CALSCALE:GREGORIAN
METHOD:PUBLISH
X-ORIGINAL-URL:https://milfordconservation.org
X-WR-CALDESC:Events for Milford Conservation Volunteers
REFRESH-INTERVAL;VALUE=DURATION:PT1H
X-Robots-Tag:noindex
X-PUBLISHED-TTL:PT1H
BEGIN:VTIMEZONE
TZID:UTC
BEGIN:STANDARD
TZOFFSETFROM:+0000
TZOFFSETTO:+0000
TZNAME:UTC
DTSTART:20240101T000000
END:STANDARD
END:VTIMEZONE
BEGIN:VEVENT
DTSTART;TZID=UTC:20250503T100000
DTEND;TZID=UTC:20250503T120000
DTSTAMP:20260424T091002
CREATED:20250201T172238Z
LAST-MODIFIED:20250201T172240Z
UID:7769-1746266400-1746273600@milfordconservation.org
SUMMARY:Drop in Birding Session at Keyhaven
DESCRIPTION:Drop in Birding Session at Keyhaven \n\n\n\nThis is a drop in birding session open to everyone. It is held on 1st Saturday of every month\, from 10 am – 12 noon\, at Keyhaven Bird Observatory.  \n\n\n\n\n\n\n\n\n\n\nLocal bird experts are available to help identify birds and answer questions.\n\n\n\nScopes and binoculars are available to use. \n\n\n\nEveryone welcome\,  so why not come along and see what’s happening today?\n\n\n\n\n\n\nDetails of venue here \n\n\n\nYou may also like to Drop In at Sturt pond on 3rd Saturday of the month.
URL:https://milfordconservation.org/event/drop-in-birding-session-at-keyhaven-22/
CATEGORIES:Birds,Drop In Birding Sessions
END:VEVENT
BEGIN:VEVENT
DTSTART;TZID=UTC:20250512T103000
DTEND;TZID=UTC:20250512T160000
DTSTAMP:20260424T091002
CREATED:20250419T124821Z
LAST-MODIFIED:20250419T125052Z
UID:7835-1747045800-1747065600@milfordconservation.org
SUMMARY:Visit to Brownsea Island
DESCRIPTION:Leader: Gill Watson \n\n\n\nWe will take the ferry over to Brownsea Island at 10.45\, returning to Poole on the 15.00 ferry giving us about 4 hours on the island \n\n\n\nWe have reserved 25 places which will allocated on a first come first served basis. After which you will be put on a waiting list and contacted first if we repeat the event. \n\n\n\nThe ferry will cost £14.50 per person. If you are a National Trust member\, then entry onto the island is free\, but non members will pay £11 each in addition to the ferry fare. \n\n\n\nThere are 2 options for travel: –  the 0854 train from New Milton to Poole with a 15 minute walk from the station to Poole Quay – make your own way to Poole and meet the group at Poole Quay at 1030 \n\n\n\nI do hope many of you will be able to join us on this trip\, going a little further afield to enjoy the birdlife\, wildlife and flora of this  unique place \n\n\n\nIf you would like to reserve a place\, please complete the form on this page\, stating the following in the comments box: \n\n\n\nNumber of places:Names :Special access requirements: Y/NMobile number:Train or own transport?Are you a National Trust Member? Y/N \n\n\n\nMore details of the day will be sent to those registered nearer the time. \n\n\n\n\nPlease enable JavaScript in your browser to complete this form.Event *Name *FirstLastEmail *Contact numberComment or Message *Send
URL:https://milfordconservation.org/event/visit-to-brownsea-island/
CATEGORIES:Walks
END:VEVENT
BEGIN:VEVENT
DTSTART;TZID=UTC:20250513T100000
DTEND;TZID=UTC:20250513T130000
DTSTAMP:20260424T091002
CREATED:20241206T154116Z
LAST-MODIFIED:20250511T171316Z
UID:7695-1747130400-1747141200@milfordconservation.org
SUMMARY:Conservation Task
DESCRIPTION:Organiser: Adrian Palmer \n\n\n\n\n\nMeeting Point:  \n\n\n\n\n\n\n\n\n\n\n\nTask:  We plan to return to a task started earlier this year\, completing the path past the ‘Milford spring’ from the Pleasure Grounds to Studland Common. The location is shown on the attached map and we are aiming to meet there with the PC team at 10.00 am. We will assist the PC team spreading scalpings between the previously installed edge boards. Obviously this is a more physical task. For anyone who wishes to attend and undertake a ‘lighter’ task there are a number of trees on the common where it would be desirable to cut back brambles around the base of trees\, particularly in areas used by local residents and visitors. \n\n\n\nThe weather forecast for next Tuesday is currently sunny and warm\, so please do not forget your drinks and protection from the sun\, in addition to suitable footwear  and gloves. For volunteers who prefer to engage in the lighter cutting back task\, bring your favourite pair of secateurs\, although loppers will be available. \n\n\n\n\n\n\n\nEvery effort will be made to keep to this date\, but changes can occur due to weather\, logistics\, to suit other involved parties or to avoid conflicting events. Generally an email will be sent to volunteers a week in advance with location and details of the task. It is possible that additional sessions will be added \, including at weekends if there is time critical\, or backlog of tasks to complete. \n\n\n\nIf you would like to join the list please fill in our contact form. \n\n\n\nTasks are generally planned with the parish council\, and wherever possible have a conservation theme. Most tasks are conservation management or maintenance and vary from lighter clearance work e.g. footpaths\, bramble\, rhododendron and hazel coppice\, to heavier work like drainage\, revetment or footpaths. Occasionally we do get opportunities to enhance or even create habitat for flora and fauna.  \n\n\n\nVolunteers should wear gloves and sturdy footwear\, safety glasses and  long trousers recommended. Bring waterproofs\, sunscreen and insect repellent as appropriate and bring your own water/refreshments. \n\n\n	\n		\n			\n				\n					\n						\n	\n	\n\n						\n							Add to calendar						\n						\n	\n\n					\n					\n						\n															\n									\n										Google Calendar									\n								\n															\n									\n										iCalendar									\n								\n															\n									\n										Outlook 365									\n								\n															\n									\n										Outlook Live
URL:https://milfordconservation.org/event/conservation-task-22/
CATEGORIES:Tasks
END:VEVENT
BEGIN:VEVENT
DTSTART;TZID=UTC:20250517T100000
DTEND;TZID=UTC:20250517T120000
DTSTAMP:20260424T091002
CREATED:20250201T164906Z
LAST-MODIFIED:20250201T164907Z
UID:7748-1747476000-1747483200@milfordconservation.org
SUMMARY:Drop in Birding Session at Sturt Pond
DESCRIPTION:This is a drop in birding session open to everyone. It is held on 3rd Saturday of every month\, from 10 am – 12 noon\, at Sturt Pond Bird Hide.  \n\n\n\n\n\n\n\n\n\n\nLocal bird experts are available to help identify birds and answer questions. \n\n\n\nScopes and binoculars are available to use.\n\n\n\nEveryone welcome\,  so why not come along and see what’s happening today?\n\n\n\n\n\n\nDetails of venue here \n\n\n\nYou may also like to Drop In at Keyhaven Observatory on 1st Saturday of the month.
URL:https://milfordconservation.org/event/drop-in-birding-session-at-sturt-pond-19/
CATEGORIES:Birds,Drop In Birding Sessions
END:VEVENT
BEGIN:VEVENT
DTSTART;TZID=UTC:20250520T100000
DTEND;TZID=UTC:20250520T120000
DTSTAMP:20260424T091002
CREATED:20240920T142714Z
LAST-MODIFIED:20250514T152729Z
UID:7465-1747735200-1747742400@milfordconservation.org
SUMMARY:Nature Walk
DESCRIPTION:Keyhaven Sea Wall\n\n\n\nMeeting Point: Keyhaven Observatory \n\n\n\nLeaders:  David Horne \n\n\n\nUnfortunately Wendy Thomas is unable to lead a wild flower walk and we wish her well.\n\n\n\nWendy and Mary have been surveying and monitoring wildflowers around the parish for a number of years. The meeting point will be determined by what’s flowering at the time. \n\n\n\nOpen to everyone\, new members are especially welcome. \n\n\n\nPlease wear  clothing and footwear appropriate for the weather conditions. Bring water and sunscreen as required. \n\n\n\nNote Any changes to the walk details will be published here\, so check back here to confirm. We also try to send an email reminder to members shortly before the walk is due to take place. \n\n\n\nEither fill in the form so that we know to expect you\, or just turn up on the day. \n\n\n\n\n\n\nPlease enable JavaScript in your browser to complete this form.Event *Name *FirstLastEmail *Contact numberComment or Message *Send
URL:https://milfordconservation.org/event/nature-walk-21/
CATEGORIES:Walks
END:VEVENT
END:VCALENDAR