BEGIN:VCALENDAR
VERSION:2.0
PRODID:-//Milford Conservation Volunteers - ECPv6.15.20//NONSGML v1.0//EN
CALSCALE:GREGORIAN
METHOD:PUBLISH
X-ORIGINAL-URL:https://milfordconservation.org
X-WR-CALDESC:Events for Milford Conservation Volunteers
REFRESH-INTERVAL;VALUE=DURATION:PT1H
X-Robots-Tag:noindex
X-PUBLISHED-TTL:PT1H
BEGIN:VTIMEZONE
TZID:UTC
BEGIN:STANDARD
TZOFFSETFROM:+0000
TZOFFSETTO:+0000
TZNAME:UTC
DTSTART:20240101T000000
END:STANDARD
END:VTIMEZONE
BEGIN:VEVENT
DTSTART;TZID=UTC:20250812T100000
DTEND;TZID=UTC:20250812T130000
DTSTAMP:20260424T054549
CREATED:20250718T113119Z
LAST-MODIFIED:20250809T142256Z
UID:7882-1754992800-1755003600@milfordconservation.org
SUMMARY:Conservation Task
DESCRIPTION:Organiser: Adrian Palmer \n\n\n\nMeeting Point:  Churchyard Entrance See map below \n\n\n\nTask:  Clearing entrance to meadow and laying paving \n\n\n\n\n\nAs we head into the end of the summer and autumn we will have more sessions in the Community Meadow and this month\, we will be focussing on improving accessibility at the entrance from the church yard (blue arrow on map) and from Dacres Walk/Knowland Drive (red arrow). This will involve at the church yard entrance\, cutting back overhanging shrubs/tree branches and removal of posts that inhibit access by pushchairs and wheelchairs. At the Dacres Walk entrance\, the plan is to level off the short length of rough ground from the footpath to the gate and lay 6 or 8 paving slabs. \n\n\n\nThe weather forecast for Tuesday is for warm sunshine\, so please bring fluids and protection from the sun as well as suitable gloves and footwear. \n\n\n\n\n\n\n\n\n\n\n\n\n\n\n\nEvery effort will be made to keep to this date\, but changes can occur due to weather\, logistics\, to suit other involved parties or to avoid conflicting events. Generally an email will be sent to volunteers a week in advance with location and details of the task. It is possible that additional sessions will be added \, including at weekends if there is time critical\, or backlog of tasks to complete. \n\n\n\nIf you would like to join the list please fill in our contact form. \n\n\n\nTasks are generally planned with the parish council\, and wherever possible have a conservation theme. Most tasks are conservation management or maintenance and vary from lighter clearance work e.g. footpaths\, bramble\, rhododendron and hazel coppice\, to heavier work like drainage\, revetment or footpaths. Occasionally we do get opportunities to enhance or even create habitat for flora and fauna.  \n\n\n\nVolunteers should wear gloves and sturdy footwear\, safety glasses and  long trousers recommended. Bring waterproofs\, sunscreen and insect repellent as appropriate and bring your own water/refreshments. \n\n\n	\n		\n			\n				\n					\n						\n	\n	\n\n						\n							Add to calendar						\n						\n	\n\n					\n					\n						\n															\n									\n										Google Calendar									\n								\n															\n									\n										iCalendar									\n								\n															\n									\n										Outlook 365									\n								\n															\n									\n										Outlook Live
URL:https://milfordconservation.org/event/conservation-task-24/
CATEGORIES:Tasks
END:VEVENT
END:VCALENDAR