BEGIN:VCALENDAR
VERSION:2.0
PRODID:-//Milford Conservation Volunteers - ECPv6.15.20//NONSGML v1.0//EN
CALSCALE:GREGORIAN
METHOD:PUBLISH
X-ORIGINAL-URL:https://milfordconservation.org
X-WR-CALDESC:Events for Milford Conservation Volunteers
REFRESH-INTERVAL;VALUE=DURATION:PT1H
X-Robots-Tag:noindex
X-PUBLISHED-TTL:PT1H
BEGIN:VTIMEZONE
TZID:UTC
BEGIN:STANDARD
TZOFFSETFROM:+0000
TZOFFSETTO:+0000
TZNAME:UTC
DTSTART:20250101T000000
END:STANDARD
END:VTIMEZONE
BEGIN:VEVENT
DTSTART;TZID=UTC:20260103T100000
DTEND;TZID=UTC:20260103T120000
DTSTAMP:20260423T205000
CREATED:20251102T154559Z
LAST-MODIFIED:20251102T154756Z
UID:8063-1767434400-1767441600@milfordconservation.org
SUMMARY:Drop in Birding Session at Keyhaven
DESCRIPTION:Drop in Birding Session at Keyhaven \n\n\n\nThis is a drop in birding session open to everyone. It is held on 1st Saturday of every month\, from 10 am – 12 noon\, at Keyhaven Bird Observatory.  \n\n\n\n\n\n\n\n\n\n\nLocal bird experts are available to help identify birds and answer questions.\n\n\n\nScopes and binoculars are available to use. \n\n\n\nEveryone welcome\,  so why not come along and see what’s happening today?\n\n\n\n\n\n\nDetails of venue here \n\n\n\nYou may also like to Drop In at Sturt pond on 3rd Saturday of the month.
URL:https://milfordconservation.org/event/drop-in-birding-session-at-keyhaven-27/
CATEGORIES:Birds,Drop In Birding Sessions
END:VEVENT
BEGIN:VEVENT
DTSTART;TZID=UTC:20260122T100000
DTEND;TZID=UTC:20260122T130000
DTSTAMP:20260423T205000
CREATED:20251102T120813Z
LAST-MODIFIED:20251102T152426Z
UID:7995-1769076000-1769086800@milfordconservation.org
SUMMARY:Conservation Task
DESCRIPTION:Organiser: Adrian Palmer \n\n\n\nMeeting Point: To be confirmed nearer the time \n\n\n\nTask:  To be confirmed nearer the time \n\n\n\n\n\n\n\nEvery effort will be made to keep to this date\, but changes can occur due to weather\, logistics\, to suit other involved parties or to avoid conflicting events. Generally an email will be sent to volunteers a week in advance with location and details of the task. It is possible that additional sessions will be added \, including at weekends if there is time critical\, or backlog of tasks to complete. \n\n\n\nIf you would like to join the list please fill in our contact form. \n\n\n\nTasks are generally planned with the parish council\, and wherever possible have a conservation theme. Most tasks are conservation management or maintenance and vary from lighter clearance work e.g. footpaths\, bramble\, rhododendron and hazel coppice\, to heavier work like drainage\, revetment or footpaths. Occasionally we do get opportunities to enhance or even create habitat for flora and fauna.  \n\n\n\nVolunteers should wear gloves and sturdy footwear\, safety glasses and  long trousers recommended. Bring waterproofs\, sunscreen and insect repellent as appropriate and bring your own water/refreshments. \n\n\n	\n		\n			\n				\n					\n						\n	\n	\n\n						\n							Add to calendar						\n						\n	\n\n					\n					\n						\n															\n									\n										Google Calendar									\n								\n															\n									\n										iCalendar									\n								\n															\n									\n										Outlook 365									\n								\n															\n									\n										Outlook Live
URL:https://milfordconservation.org/event/conservation-task-29/
CATEGORIES:Tasks,Volunteering
END:VEVENT
BEGIN:VEVENT
DTSTART;TZID=UTC:20260124T090000
DTEND;TZID=UTC:20260124T223000
DTSTAMP:20260423T205000
CREATED:20251217T142029Z
LAST-MODIFIED:20251217T144306Z
UID:8134-1769245200-1769293800@milfordconservation.org
SUMMARY:Creeks & Saltmarsh Boat Trip
DESCRIPTION:This is  a boat trip around Keyhaven Creeks and Saltmarsh\, led by bird expert\, Keith Metcalf.  \n\n\n\nSpace is limited so pre-booking is essential and payment needs to be received to confirm booking. Please contact Keith using the details in the poster. \n\n\n\nMeet at Keyhaven Hurst Castle Ferry Pontoon 5 minutes before departure. \n\n\n\nTicket Prices to cover costs only:\n\n\n\nMCV Members £16Non-MCV Members £21 \n\n\n\n\nC-and-S-TRIP-62-63-POSTER-2026
URL:https://milfordconservation.org/event/creeks-saltmarsh-boat-trip-6/
CATEGORIES:Birds,Boat Trips
END:VEVENT
BEGIN:VEVENT
DTSTART;TZID=UTC:20260126T100000
DTEND;TZID=UTC:20260126T120000
DTSTAMP:20260423T205000
CREATED:20250914T161343Z
LAST-MODIFIED:20260117T140011Z
UID:7932-1769421600-1769428800@milfordconservation.org
SUMMARY:Nature Walk
DESCRIPTION:Meeting Point: Milford Pleasure Grounds bridge \n\n\n\nLeader: David Horne \n\n\n\nWe will meet at 10am at the Milford Pleasure Grounds bridge and head up to Studland Common and Sharvells Copse \n\n\n\nThe bridge is located almost opposite Lucerne Road just up from the carpark near the Thai restaurant in the village \n\n\n\nOpen to everyone\, and new members are especially welcome. \n\n\n\nPlease wear  clothing and footwear appropriate for the weather conditions. Bring water and sunscreen as required. \n\n\n\nNote Any changes to the walk details will be published here\, so check back here to confirm. We also try to send an email reminder to members shortly before the walk is due to take place. \n\n\n\nEither fill in the form so that we know to expect you\, or just turn up on the day. \n\n\n\n\n\n\nPlease enable JavaScript in your browser to complete this form.Event *Name *FirstLastEmail *Contact numberComment or Message *Send
URL:https://milfordconservation.org/event/nature-walk-31/
CATEGORIES:Walks
END:VEVENT
END:VCALENDAR